BEGIN:VCALENDAR
VERSION:2.0
METHOD:PUBLISH
X-WR-CALNAME:Üdvözöljük Önt Városunk Honlapján! |  június 22 2014- július 22 2014
PRODID:-//strange bird labs//Drupal iCal API//EN
BEGIN:VEVENT
DTSTAMP;VALUE=DATE-TIME:20260422T081923Z
DTSTART;VALUE=DATE-TIME:20140623T060000Z
DTEND;VALUE=DATE-TIME:20140627T140000Z
UID:http://archiv.lajosmizse.hu/hu/content/f%C3%BCrk%C3%A9sz-t%C3%A1bor-0
URL;VALUE=URI:http://archiv.lajosmizse.hu/hu/content/f%C3%BCrk%C3%A9sz-t%C3%A1bor-0
SUMMARY:Fürkész tábor
END:VEVENT
END:VCALENDAR
