BEGIN:VCALENDAR
VERSION:2.0
METHOD:PUBLISH
X-WR-CALNAME:Üdvözöljük Önt Városunk Honlapján! |  június 16 2014- június 23 2014
PRODID:-//strange bird labs//Drupal iCal API//EN
BEGIN:VEVENT
DTSTAMP;VALUE=DATE-TIME:20260422T195632Z
DTSTART;VALUE=DATE-TIME:20140620T220000Z
DTEND;VALUE=DATE-TIME:20140620T220000Z
UID:http://archiv.lajosmizse.hu/hu/content/region%C3%A1lis-k%C3%B3rustal%C3%A1lkoz%C3%B3
URL;VALUE=URI:http://archiv.lajosmizse.hu/hu/content/region%C3%A1lis-k%C3%B3rustal%C3%A1lkoz%C3%B3
SUMMARY:Regionális Kórustalálkozó
END:VEVENT
END:VCALENDAR
