BEGIN:VCALENDAR
VERSION:2.0
METHOD:PUBLISH
X-WR-CALNAME:Üdvözöljük Önt Városunk Honlapján! |  május 18 2014- június 17 2014
PRODID:-//strange bird labs//Drupal iCal API//EN
BEGIN:VEVENT
DTSTAMP;VALUE=DATE-TIME:20260422T105037Z
DTSTART;VALUE=DATE-TIME:20140513T060000Z
DTEND;VALUE=DATE-TIME:20140530T140000Z
UID:http://archiv.lajosmizse.hu/hu/content/maciki%C3%A1ll%C3%ADt%C3%A1s
URL;VALUE=URI:http://archiv.lajosmizse.hu/hu/content/maciki%C3%A1ll%C3%ADt%C3%A1s
SUMMARY:Macikiállítás
END:VEVENT
BEGIN:VEVENT
DTSTAMP;VALUE=DATE-TIME:20260422T105037Z
DTSTART;VALUE=DATE-TIME:20140518T220000Z
DTEND;VALUE=DATE-TIME:20140530T140000Z
UID:http://archiv.lajosmizse.hu/hu/content/%C3%B3vod%C3%A1sok-alkot%C3%A1saib%C3%B3l-tavaszi-ki%C3%A1ll%C3%ADt%C3%A1s
URL;VALUE=URI:http://archiv.lajosmizse.hu/hu/content/%C3%B3vod%C3%A1sok-alkot%C3%A1saib%C3%B3l-tavaszi-ki%C3%A1ll%C3%ADt%C3%A1s
SUMMARY:Óvodások alkotásaiból tavaszi kiállítás
END:VEVENT
BEGIN:VEVENT
DTSTAMP;VALUE=DATE-TIME:20260422T105037Z
DTSTART;VALUE=DATE-TIME:20140524T060000Z
DTEND;VALUE=DATE-TIME:20140524T060000Z
UID:http://archiv.lajosmizse.hu/hu/content/szam%C3%B3cafesztiv%C3%A1l
URL;VALUE=URI:http://archiv.lajosmizse.hu/hu/content/szam%C3%B3cafesztiv%C3%A1l
SUMMARY:Szamócafesztivál
END:VEVENT
BEGIN:VEVENT
DTSTAMP;VALUE=DATE-TIME:20260422T105037Z
DTSTART;VALUE=DATE-TIME:20140525T060000Z
DTEND;VALUE=DATE-TIME:20140525T060000Z
UID:http://archiv.lajosmizse.hu/hu/content/gyermeknap-grill%C3%A1zs-maj%C3%A1lis-0
URL;VALUE=URI:http://archiv.lajosmizse.hu/hu/content/gyermeknap-grill%C3%A1zs-maj%C3%A1lis-0
SUMMARY:Gyermeknap és Grillázs Majális
END:VEVENT
BEGIN:VEVENT
DTSTAMP;VALUE=DATE-TIME:20260422T105037Z
DTSTART;VALUE=DATE-TIME:20140525T060000Z
DTEND;VALUE=DATE-TIME:20140525T060000Z
UID:http://archiv.lajosmizse.hu/hu/content/sakk-verseny-0
URL;VALUE=URI:http://archiv.lajosmizse.hu/hu/content/sakk-verseny-0
SUMMARY:Sakk verseny
END:VEVENT
BEGIN:VEVENT
DTSTAMP;VALUE=DATE-TIME:20260422T105037Z
DTSTART;VALUE=DATE-TIME:20140530T060000Z
DTEND;VALUE=DATE-TIME:20140530T060000Z
UID:http://archiv.lajosmizse.hu/hu/content/v%C3%A1rosi-k%C3%B6rnyezetv%C3%A9delmi-nap-0
URL;VALUE=URI:http://archiv.lajosmizse.hu/hu/content/v%C3%A1rosi-k%C3%B6rnyezetv%C3%A9delmi-nap-0
SUMMARY:Városi Környezetvédelmi Nap
END:VEVENT
BEGIN:VEVENT
DTSTAMP;VALUE=DATE-TIME:20260422T105037Z
DTSTART;VALUE=DATE-TIME:20140605T140000Z
DTEND;VALUE=DATE-TIME:20140605T140000Z
UID:http://archiv.lajosmizse.hu/hu/content/ovi-g%C3%A1la-0
URL;VALUE=URI:http://archiv.lajosmizse.hu/hu/content/ovi-g%C3%A1la-0
SUMMARY:Ovi Gála
END:VEVENT
BEGIN:VEVENT
DTSTAMP;VALUE=DATE-TIME:20260422T105037Z
DTSTART;VALUE=DATE-TIME:20140609T150000Z
DTEND;VALUE=DATE-TIME:20140609T150000Z
UID:http://archiv.lajosmizse.hu/hu/content/lajosmizse-buchen-sakk-tal%C3%A1lkoz%C3%B3
URL;VALUE=URI:http://archiv.lajosmizse.hu/hu/content/lajosmizse-buchen-sakk-tal%C3%A1lkoz%C3%B3
SUMMARY:Lajosmizse-Buchen sakk találkozó
END:VEVENT
BEGIN:VEVENT
DTSTAMP;VALUE=DATE-TIME:20260422T105037Z
DTSTART;VALUE=DATE-TIME:20140612T220000Z
DTEND;VALUE=DATE-TIME:20140612T220000Z
UID:http://archiv.lajosmizse.hu/hu/content/ballag%C3%A1s-0
URL;VALUE=URI:http://archiv.lajosmizse.hu/hu/content/ballag%C3%A1s-0
SUMMARY:Ballagás
END:VEVENT
BEGIN:VEVENT
DTSTAMP;VALUE=DATE-TIME:20260422T105037Z
DTSTART;VALUE=DATE-TIME:20140614T060000Z
DTEND;VALUE=DATE-TIME:20140614T060000Z
UID:http://archiv.lajosmizse.hu/hu/content/k%C3%A9zm%C5%B1ves-kirakod%C3%B3-v%C3%A1s%C3%A1r-0
URL;VALUE=URI:http://archiv.lajosmizse.hu/hu/content/k%C3%A9zm%C5%B1ves-kirakod%C3%B3-v%C3%A1s%C3%A1r-0
SUMMARY:Kézműves Kirakodó vásár
END:VEVENT
END:VCALENDAR
