BEGIN:VCALENDAR
VERSION:2.0
METHOD:PUBLISH
X-WR-CALNAME:Üdvözöljük Önt Városunk Honlapján! |  április 25 2014- május 25 2014
PRODID:-//strange bird labs//Drupal iCal API//EN
BEGIN:VEVENT
DTSTAMP;VALUE=DATE-TIME:20260421T203632Z
DTSTART;VALUE=DATE-TIME:20140414T220000Z
DTEND;VALUE=DATE-TIME:20140508T140000Z
UID:http://archiv.lajosmizse.hu/hu/content/szalai-s%C3%A1ndor-k%C3%A9pz%C5%91m%C5%B1v%C3%A9s-ki%C3%A1ll%C3%ADt%C3%A1sa
URL;VALUE=URI:http://archiv.lajosmizse.hu/hu/content/szalai-s%C3%A1ndor-k%C3%A9pz%C5%91m%C5%B1v%C3%A9s-ki%C3%A1ll%C3%ADt%C3%A1sa
SUMMARY:Szalai Sándor képzőművés kiállítása
END:VEVENT
BEGIN:VEVENT
DTSTAMP;VALUE=DATE-TIME:20260421T203632Z
DTSTART;VALUE=DATE-TIME:20140426T053000Z
DTEND;VALUE=DATE-TIME:20140426T053000Z
UID:http://archiv.lajosmizse.hu/hu/content/iv-orsz%C3%A1gos-kismotorfecskend%C5%91-bajnoks%C3%A1g
URL;VALUE=URI:http://archiv.lajosmizse.hu/hu/content/iv-orsz%C3%A1gos-kismotorfecskend%C5%91-bajnoks%C3%A1g
SUMMARY:IV. Országos Kismotorfecskendő Bajnokság 
DESCRIPTION:<p><a href=\\"http\://www.lmizsekultura.hu/kepek/plakat/2014/tuzolto.jpg\\">125. &eacute\;ves a Lajosmizsei Tűzolt&oacute\;s&aacute\;g</a><br />
 &nbsp\;<br />
 &nbsp\;</p>
 
END:VEVENT
BEGIN:VEVENT
DTSTAMP;VALUE=DATE-TIME:20260421T203632Z
DTSTART;VALUE=DATE-TIME:20140504T060000Z
DTEND;VALUE=DATE-TIME:20140504T060000Z
UID:http://archiv.lajosmizse.hu/hu/content/sakk-verseny
URL;VALUE=URI:http://archiv.lajosmizse.hu/hu/content/sakk-verseny
SUMMARY:Sakk verseny
END:VEVENT
BEGIN:VEVENT
DTSTAMP;VALUE=DATE-TIME:20260421T203632Z
DTSTART;VALUE=DATE-TIME:20140505T060000Z
DTEND;VALUE=DATE-TIME:20140508T140000Z
UID:http://archiv.lajosmizse.hu/hu/content/%C3%B3vodai-be%C3%ADratkoz%C3%A1s-1
URL;VALUE=URI:http://archiv.lajosmizse.hu/hu/content/%C3%B3vodai-be%C3%ADratkoz%C3%A1s-1
SUMMARY:Óvodai beíratkozás
END:VEVENT
BEGIN:VEVENT
DTSTAMP;VALUE=DATE-TIME:20260421T203632Z
DTSTART;VALUE=DATE-TIME:20140509T150000Z
DTEND;VALUE=DATE-TIME:20140509T150000Z
UID:http://archiv.lajosmizse.hu/hu/content/d-t%C3%B3th-kriszta-%C3%BAjs%C3%A1g%C3%ADr%C3%B3-m%C5%B1vel%C5%91d%C3%A9si-h%C3%A1zban
URL;VALUE=URI:http://archiv.lajosmizse.hu/hu/content/d-t%C3%B3th-kriszta-%C3%BAjs%C3%A1g%C3%ADr%C3%B3-m%C5%B1vel%C5%91d%C3%A9si-h%C3%A1zban
SUMMARY:D. Tóth Kriszta újságíró a Művelődési Házban
END:VEVENT
BEGIN:VEVENT
DTSTAMP;VALUE=DATE-TIME:20260421T203632Z
DTSTART;VALUE=DATE-TIME:20140510T060000Z
DTEND;VALUE=DATE-TIME:20140510T060000Z
UID:http://archiv.lajosmizse.hu/hu/content/k%C3%A9zm%C5%B1ves-kirakod%C3%B3-v%C3%A1s%C3%A1r
URL;VALUE=URI:http://archiv.lajosmizse.hu/hu/content/k%C3%A9zm%C5%B1ves-kirakod%C3%B3-v%C3%A1s%C3%A1r
SUMMARY:Kézműves kirakodó vásár
END:VEVENT
BEGIN:VEVENT
DTSTAMP;VALUE=DATE-TIME:20260421T203632Z
DTSTART;VALUE=DATE-TIME:20140513T060000Z
DTEND;VALUE=DATE-TIME:20140530T140000Z
UID:http://archiv.lajosmizse.hu/hu/content/maciki%C3%A1ll%C3%ADt%C3%A1s
URL;VALUE=URI:http://archiv.lajosmizse.hu/hu/content/maciki%C3%A1ll%C3%ADt%C3%A1s
SUMMARY:Macikiállítás
END:VEVENT
BEGIN:VEVENT
DTSTAMP;VALUE=DATE-TIME:20260421T203632Z
DTSTART;VALUE=DATE-TIME:20140516T220000Z
DTEND;VALUE=DATE-TIME:20140516T220000Z
UID:http://archiv.lajosmizse.hu/hu/content/jubileumi-n%C3%A9pdalos-tal%C3%A1lkoz%C3%B3
URL;VALUE=URI:http://archiv.lajosmizse.hu/hu/content/jubileumi-n%C3%A9pdalos-tal%C3%A1lkoz%C3%B3
SUMMARY:Jubileumi népdalos találkozó
END:VEVENT
BEGIN:VEVENT
DTSTAMP;VALUE=DATE-TIME:20260421T203632Z
DTSTART;VALUE=DATE-TIME:20140518T220000Z
DTEND;VALUE=DATE-TIME:20140530T140000Z
UID:http://archiv.lajosmizse.hu/hu/content/%C3%B3vod%C3%A1sok-alkot%C3%A1saib%C3%B3l-tavaszi-ki%C3%A1ll%C3%ADt%C3%A1s
URL;VALUE=URI:http://archiv.lajosmizse.hu/hu/content/%C3%B3vod%C3%A1sok-alkot%C3%A1saib%C3%B3l-tavaszi-ki%C3%A1ll%C3%ADt%C3%A1s
SUMMARY:Óvodások alkotásaiból tavaszi kiállítás
END:VEVENT
BEGIN:VEVENT
DTSTAMP;VALUE=DATE-TIME:20260421T203632Z
DTSTART;VALUE=DATE-TIME:20140524T060000Z
DTEND;VALUE=DATE-TIME:20140524T060000Z
UID:http://archiv.lajosmizse.hu/hu/content/szam%C3%B3cafesztiv%C3%A1l
URL;VALUE=URI:http://archiv.lajosmizse.hu/hu/content/szam%C3%B3cafesztiv%C3%A1l
SUMMARY:Szamócafesztivál
END:VEVENT
END:VCALENDAR
