BEGIN:VCALENDAR
VERSION:2.0
METHOD:PUBLISH
X-WR-CALNAME:Üdvözöljük Önt Városunk Honlapján! |  december 09 2013- december 16 2013
PRODID:-//strange bird labs//Drupal iCal API//EN
BEGIN:VEVENT
DTSTAMP;VALUE=DATE-TIME:20260422T041811Z
DTSTART;VALUE=DATE-TIME:20131203T060000Z
DTEND;VALUE=DATE-TIME:20131220T140000Z
UID:http://archiv.lajosmizse.hu/hu/content/xiii-lajosmizsei-betlehemi-j%C3%A1szolki%C3%A1ll%C3%ADt%C3%A1s
URL;VALUE=URI:http://archiv.lajosmizse.hu/hu/content/xiii-lajosmizsei-betlehemi-j%C3%A1szolki%C3%A1ll%C3%ADt%C3%A1s
SUMMARY:XIII. Lajosmizsei Betlehemi Jászolkiállítás
END:VEVENT
END:VCALENDAR
