BEGIN:VCALENDAR
VERSION:2.0
METHOD:PUBLISH
X-WR-CALNAME:Üdvözöljük Önt Városunk Honlapján! |  november 10 2013- december 10 2013
PRODID:-//strange bird labs//Drupal iCal API//EN
BEGIN:VEVENT
DTSTAMP;VALUE=DATE-TIME:20260426T043316Z
DTSTART;VALUE=DATE-TIME:20131129T083000Z
DTEND;VALUE=DATE-TIME:20131129T083000Z
UID:http://archiv.lajosmizse.hu/hu/content/%C3%B3v%C3%B3n%C5%91i-mese-el%C5%91ad%C3%A1s
URL;VALUE=URI:http://archiv.lajosmizse.hu/hu/content/%C3%B3v%C3%B3n%C5%91i-mese-el%C5%91ad%C3%A1s
SUMMARY:Óvónői mese előadás
END:VEVENT
BEGIN:VEVENT
DTSTAMP;VALUE=DATE-TIME:20260426T043316Z
DTSTART;VALUE=DATE-TIME:20131201T040000Z
DTEND;VALUE=DATE-TIME:20131201T040000Z
UID:http://archiv.lajosmizse.hu/hu/content/orsz%C3%A1gos-%C3%A1llat-kirakod%C3%B3v%C3%A1s%C3%A1r-10
URL;VALUE=URI:http://archiv.lajosmizse.hu/hu/content/orsz%C3%A1gos-%C3%A1llat-kirakod%C3%B3v%C3%A1s%C3%A1r-10
SUMMARY:Országos állat- és kirakodóvásár
END:VEVENT
BEGIN:VEVENT
DTSTAMP;VALUE=DATE-TIME:20260426T043316Z
DTSTART;VALUE=DATE-TIME:20131203T060000Z
DTEND;VALUE=DATE-TIME:20131220T140000Z
UID:http://archiv.lajosmizse.hu/hu/content/xiii-lajosmizsei-betlehemi-j%C3%A1szolki%C3%A1ll%C3%ADt%C3%A1s
URL;VALUE=URI:http://archiv.lajosmizse.hu/hu/content/xiii-lajosmizsei-betlehemi-j%C3%A1szolki%C3%A1ll%C3%ADt%C3%A1s
SUMMARY:XIII. Lajosmizsei Betlehemi Jászolkiállítás
END:VEVENT
BEGIN:VEVENT
DTSTAMP;VALUE=DATE-TIME:20260426T043316Z
DTSTART;VALUE=DATE-TIME:20131205T150000Z
DTEND;VALUE=DATE-TIME:20131205T150000Z
UID:http://archiv.lajosmizse.hu/hu/content/kar%C3%A1csonyi-g%C3%A1la-0
URL;VALUE=URI:http://archiv.lajosmizse.hu/hu/content/kar%C3%A1csonyi-g%C3%A1la-0
SUMMARY:Karácsonyi Gála
END:VEVENT
BEGIN:VEVENT
DTSTAMP;VALUE=DATE-TIME:20260426T043316Z
DTSTART;VALUE=DATE-TIME:20131206T060000Z
DTEND;VALUE=DATE-TIME:20131206T060000Z
UID:http://archiv.lajosmizse.hu/hu/content/mikul%C3%A1s-%C3%B3vod%C3%A1ban
URL;VALUE=URI:http://archiv.lajosmizse.hu/hu/content/mikul%C3%A1s-%C3%B3vod%C3%A1ban
SUMMARY:Mikulás az óvodában
END:VEVENT
END:VCALENDAR
