BEGIN:VCALENDAR
VERSION:2.0
METHOD:PUBLISH
X-WR-CALNAME:Üdvözöljük Önt Városunk Honlapján! |  október 23 2013- november 22 2013
PRODID:-//strange bird labs//Drupal iCal API//EN
BEGIN:VEVENT
DTSTAMP;VALUE=DATE-TIME:20260424T062955Z
DTSTART;VALUE=DATE-TIME:20131023T150000Z
DTEND;VALUE=DATE-TIME:20131023T150000Z
UID:http://archiv.lajosmizse.hu/hu/content/%C3%BCnnepi-m%C5%B1sor-koszor%C3%BAz%C3%A1s-0
URL;VALUE=URI:http://archiv.lajosmizse.hu/hu/content/%C3%BCnnepi-m%C5%B1sor-koszor%C3%BAz%C3%A1s-0
SUMMARY:Ünnepi műsor és koszorúzás
END:VEVENT
BEGIN:VEVENT
DTSTAMP;VALUE=DATE-TIME:20260424T062955Z
DTSTART;VALUE=DATE-TIME:20131026T060000Z
DTEND;VALUE=DATE-TIME:20131026T060000Z
UID:http://archiv.lajosmizse.hu/hu/content/boszork%C3%A1ny-szombat
URL;VALUE=URI:http://archiv.lajosmizse.hu/hu/content/boszork%C3%A1ny-szombat
SUMMARY:Boszorkány szombat
END:VEVENT
BEGIN:VEVENT
DTSTAMP;VALUE=DATE-TIME:20260424T062955Z
DTSTART;VALUE=DATE-TIME:20131028T060000Z
DTEND;VALUE=DATE-TIME:20131031T140000Z
UID:http://archiv.lajosmizse.hu/hu/content/t%C3%B6k-j%C3%B3-h%C3%A9t-%C3%B3vod%C3%A1kban
URL;VALUE=URI:http://archiv.lajosmizse.hu/hu/content/t%C3%B6k-j%C3%B3-h%C3%A9t-%C3%B3vod%C3%A1kban
SUMMARY:Tök jó hét az óvodákban
END:VEVENT
BEGIN:VEVENT
DTSTAMP;VALUE=DATE-TIME:20260424T062955Z
DTSTART;VALUE=DATE-TIME:20131103T040000Z
DTEND;VALUE=DATE-TIME:20131103T040000Z
UID:http://archiv.lajosmizse.hu/hu/content/orsz%C3%A1gos-%C3%A1llat-kirakod%C3%B3v%C3%A1s%C3%A1r-9
URL;VALUE=URI:http://archiv.lajosmizse.hu/hu/content/orsz%C3%A1gos-%C3%A1llat-kirakod%C3%B3v%C3%A1s%C3%A1r-9
SUMMARY:Országos állat- és kirakodóvásár
END:VEVENT
END:VCALENDAR
