BEGIN:VCALENDAR
VERSION:2.0
METHOD:PUBLISH
X-WR-CALNAME:Üdvözöljük Önt Városunk Honlapján! |  október 14 2013- október 21 2013
PRODID:-//strange bird labs//Drupal iCal API//EN
BEGIN:VEVENT
DTSTAMP;VALUE=DATE-TIME:20260421T114528Z
DTSTART;VALUE=DATE-TIME:20131018T170000Z
DTEND;VALUE=DATE-TIME:20131018T170000Z
UID:http://archiv.lajosmizse.hu/hu/content/dumasz%C3%ADnh%C3%A1z-0
URL;VALUE=URI:http://archiv.lajosmizse.hu/hu/content/dumasz%C3%ADnh%C3%A1z-0
SUMMARY:Dumaszínház
END:VEVENT
BEGIN:VEVENT
DTSTAMP;VALUE=DATE-TIME:20260421T114528Z
DTSTART;VALUE=DATE-TIME:20131019T160000Z
DTEND;VALUE=DATE-TIME:20131019T160000Z
UID:http://archiv.lajosmizse.hu/hu/content/%C5%91szi-%C3%B3voda-b%C3%A1l
URL;VALUE=URI:http://archiv.lajosmizse.hu/hu/content/%C5%91szi-%C3%B3voda-b%C3%A1l
SUMMARY:Őszi Óvoda Bál
END:VEVENT
END:VCALENDAR
