BEGIN:VCALENDAR
VERSION:2.0
METHOD:PUBLISH
X-WR-CALNAME:Üdvözöljük Önt Városunk Honlapján! |  szeptember 20 2013- október 20 2013
PRODID:-//strange bird labs//Drupal iCal API//EN
BEGIN:VEVENT
DTSTAMP;VALUE=DATE-TIME:20260421T195359Z
DTSTART;VALUE=DATE-TIME:20130930T060000Z
DTEND;VALUE=DATE-TIME:20131004T140000Z
UID:http://archiv.lajosmizse.hu/hu/content/eg%C3%A9szs%C3%A9g%C3%BCgyi-h%C3%A9t-eg%C3%A9szs%C3%A9g-expo-id%C5%91sek-hete
URL;VALUE=URI:http://archiv.lajosmizse.hu/hu/content/eg%C3%A9szs%C3%A9g%C3%BCgyi-h%C3%A9t-eg%C3%A9szs%C3%A9g-expo-id%C5%91sek-hete
SUMMARY:Egészségügyi hét\, Egészség-Expo\, Idősek hete
END:VEVENT
BEGIN:VEVENT
DTSTAMP;VALUE=DATE-TIME:20260421T195359Z
DTSTART;VALUE=DATE-TIME:20130930T060000Z
DTEND;VALUE=DATE-TIME:20131004T140000Z
UID:http://archiv.lajosmizse.hu/hu/content/f%C3%A9ltett-kincseink-t%C3%B6rt%C3%A9net%C3%BCnk-darabjai-ki%C3%A1ll%C3%ADt%C3%A1s
URL;VALUE=URI:http://archiv.lajosmizse.hu/hu/content/f%C3%A9ltett-kincseink-t%C3%B6rt%C3%A9net%C3%BCnk-darabjai-ki%C3%A1ll%C3%ADt%C3%A1s
SUMMARY:Féltett kincseink-történetünk darabjai- kiállítás
END:VEVENT
BEGIN:VEVENT
DTSTAMP;VALUE=DATE-TIME:20260421T195359Z
DTSTART;VALUE=DATE-TIME:20131001T060000Z
DTEND;VALUE=DATE-TIME:20131001T060000Z
UID:http://archiv.lajosmizse.hu/hu/content/id%C5%91sek-vil%C3%A1gnapja-v%C3%A1rosi-%C3%BCnneps%C3%A9g
URL;VALUE=URI:http://archiv.lajosmizse.hu/hu/content/id%C5%91sek-vil%C3%A1gnapja-v%C3%A1rosi-%C3%BCnneps%C3%A9g
SUMMARY:Idősek Világnapja Városi Ünnepség
END:VEVENT
BEGIN:VEVENT
DTSTAMP;VALUE=DATE-TIME:20260421T195359Z
DTSTART;VALUE=DATE-TIME:20131006T040000Z
DTEND;VALUE=DATE-TIME:20131006T040000Z
UID:http://archiv.lajosmizse.hu/hu/content/orsz%C3%A1gos-%C3%A1llat-kirakod%C3%B3v%C3%A1s%C3%A1r-8
URL;VALUE=URI:http://archiv.lajosmizse.hu/hu/content/orsz%C3%A1gos-%C3%A1llat-kirakod%C3%B3v%C3%A1s%C3%A1r-8
SUMMARY:Országos állat- és kirakodóvásár
END:VEVENT
BEGIN:VEVENT
DTSTAMP;VALUE=DATE-TIME:20260421T195359Z
DTSTART;VALUE=DATE-TIME:20131006T060000Z
DTEND;VALUE=DATE-TIME:20131006T060000Z
UID:http://archiv.lajosmizse.hu/hu/content/%C3%A1llatok-vil%C3%A1gnapja
URL;VALUE=URI:http://archiv.lajosmizse.hu/hu/content/%C3%A1llatok-vil%C3%A1gnapja
SUMMARY:Állatok világnapja
END:VEVENT
BEGIN:VEVENT
DTSTAMP;VALUE=DATE-TIME:20260421T195359Z
DTSTART;VALUE=DATE-TIME:20131006T060000Z
DTEND;VALUE=DATE-TIME:20131006T060000Z
UID:http://archiv.lajosmizse.hu/hu/content/k%C3%B6nyves-vas%C3%A1rnap-0
URL;VALUE=URI:http://archiv.lajosmizse.hu/hu/content/k%C3%B6nyves-vas%C3%A1rnap-0
SUMMARY:Könyves vasárnap
END:VEVENT
BEGIN:VEVENT
DTSTAMP;VALUE=DATE-TIME:20260421T195359Z
DTSTART;VALUE=DATE-TIME:20131018T170000Z
DTEND;VALUE=DATE-TIME:20131018T170000Z
UID:http://archiv.lajosmizse.hu/hu/content/dumasz%C3%ADnh%C3%A1z-0
URL;VALUE=URI:http://archiv.lajosmizse.hu/hu/content/dumasz%C3%ADnh%C3%A1z-0
SUMMARY:Dumaszínház
END:VEVENT
BEGIN:VEVENT
DTSTAMP;VALUE=DATE-TIME:20260421T195359Z
DTSTART;VALUE=DATE-TIME:20131019T160000Z
DTEND;VALUE=DATE-TIME:20131019T160000Z
UID:http://archiv.lajosmizse.hu/hu/content/%C5%91szi-%C3%B3voda-b%C3%A1l
URL;VALUE=URI:http://archiv.lajosmizse.hu/hu/content/%C5%91szi-%C3%B3voda-b%C3%A1l
SUMMARY:Őszi Óvoda Bál
END:VEVENT
END:VCALENDAR
