BEGIN:VCALENDAR
VERSION:2.0
METHOD:PUBLISH
X-WR-CALNAME:Üdvözöljük Önt Városunk Honlapján! |  augusztus 07 2013- szeptember 06 2013
PRODID:-//strange bird labs//Drupal iCal API//EN
BEGIN:VEVENT
DTSTAMP;VALUE=DATE-TIME:20260423T061302Z
DTSTART;VALUE=DATE-TIME:20130805T060000Z
DTEND;VALUE=DATE-TIME:20130809T140000Z
UID:http://archiv.lajosmizse.hu/hu/content/n%C3%A9pt%C3%A1nc-t%C3%A1bor-1
URL;VALUE=URI:http://archiv.lajosmizse.hu/hu/content/n%C3%A9pt%C3%A1nc-t%C3%A1bor-1
SUMMARY:Néptánc tábor 
END:VEVENT
BEGIN:VEVENT
DTSTAMP;VALUE=DATE-TIME:20260423T061302Z
DTSTART;VALUE=DATE-TIME:20130812T060000Z
DTEND;VALUE=DATE-TIME:20130817T140000Z
UID:http://archiv.lajosmizse.hu/hu/content/d%C3%A9dsz%C3%BCleink-j%C3%A1t%C3%A9kai
URL;VALUE=URI:http://archiv.lajosmizse.hu/hu/content/d%C3%A9dsz%C3%BCleink-j%C3%A1t%C3%A9kai
SUMMARY:Dédszüleink játékai
END:VEVENT
BEGIN:VEVENT
DTSTAMP;VALUE=DATE-TIME:20260423T061302Z
DTSTART;VALUE=DATE-TIME:20130817T060000Z
DTEND;VALUE=DATE-TIME:20130820T140000Z
UID:http://archiv.lajosmizse.hu/hu/content/xx-lajosmizsei-napok-rendezv%C3%A9nysorozat
URL;VALUE=URI:http://archiv.lajosmizse.hu/hu/content/xx-lajosmizsei-napok-rendezv%C3%A9nysorozat
SUMMARY:XX. Lajosmizsei Napok rendezvénysorozat
END:VEVENT
BEGIN:VEVENT
DTSTAMP;VALUE=DATE-TIME:20260423T061302Z
DTSTART;VALUE=DATE-TIME:20130825T030000Z
DTEND;VALUE=DATE-TIME:20130825T030000Z
UID:http://archiv.lajosmizse.hu/hu/content/b%C3%BAcs%C3%BA-v%C3%A1s%C3%A1r
URL;VALUE=URI:http://archiv.lajosmizse.hu/hu/content/b%C3%BAcs%C3%BA-v%C3%A1s%C3%A1r
SUMMARY:Búcsú vásár
END:VEVENT
BEGIN:VEVENT
DTSTAMP;VALUE=DATE-TIME:20260423T061302Z
DTSTART;VALUE=DATE-TIME:20130901T030000Z
DTEND;VALUE=DATE-TIME:20130901T030000Z
UID:http://archiv.lajosmizse.hu/hu/content/orsz%C3%A1gos-%C3%A1llat-kirakod%C3%B3v%C3%A1s%C3%A1r-7
URL;VALUE=URI:http://archiv.lajosmizse.hu/hu/content/orsz%C3%A1gos-%C3%A1llat-kirakod%C3%B3v%C3%A1s%C3%A1r-7
SUMMARY:Országos állat- és kirakodóvásár
END:VEVENT
BEGIN:VEVENT
DTSTAMP;VALUE=DATE-TIME:20260423T061302Z
DTSTART;VALUE=DATE-TIME:20130901T060000Z
DTEND;VALUE=DATE-TIME:20130901T060000Z
UID:http://archiv.lajosmizse.hu/hu/content/%C3%B3voda-%C3%A1tad%C3%A1s
URL;VALUE=URI:http://archiv.lajosmizse.hu/hu/content/%C3%B3voda-%C3%A1tad%C3%A1s
SUMMARY:Óvoda átadás
END:VEVENT
BEGIN:VEVENT
DTSTAMP;VALUE=DATE-TIME:20260423T061302Z
DTSTART;VALUE=DATE-TIME:20130901T060000Z
DTEND;VALUE=DATE-TIME:20130901T060000Z
UID:http://archiv.lajosmizse.hu/hu/content/j%C3%A1szt%C3%B6rt%C3%A9neti-ki%C3%A1ll%C3%ADt%C3%A1s
URL;VALUE=URI:http://archiv.lajosmizse.hu/hu/content/j%C3%A1szt%C3%B6rt%C3%A9neti-ki%C3%A1ll%C3%ADt%C3%A1s
SUMMARY:Jásztörténeti kiállítás
END:VEVENT
BEGIN:VEVENT
DTSTAMP;VALUE=DATE-TIME:20260423T061302Z
DTSTART;VALUE=DATE-TIME:20130901T120000Z
DTEND;VALUE=DATE-TIME:20130901T120000Z
UID:http://archiv.lajosmizse.hu/hu/content/%C3%BCnnepi-test%C3%BCleti-%C3%BCl%C3%A9s
URL;VALUE=URI:http://archiv.lajosmizse.hu/hu/content/%C3%BCnnepi-test%C3%BCleti-%C3%BCl%C3%A9s
SUMMARY:Ünnepi testületi ülés
END:VEVENT
END:VCALENDAR
