BEGIN:VCALENDAR
VERSION:2.0
METHOD:PUBLISH
X-WR-CALNAME:Üdvözöljük Önt Városunk Honlapján! |  június 13 2013- július 13 2013
PRODID:-//strange bird labs//Drupal iCal API//EN
BEGIN:VEVENT
DTSTAMP;VALUE=DATE-TIME:20260423T225508Z
DTSTART;VALUE=DATE-TIME:20130613T060000Z
DTEND;VALUE=DATE-TIME:20130613T060000Z
UID:http://archiv.lajosmizse.hu/hu/content/gyereknap-iskol%C3%A1ban
URL;VALUE=URI:http://archiv.lajosmizse.hu/hu/content/gyereknap-iskol%C3%A1ban
SUMMARY:Gyereknap az iskolában
END:VEVENT
BEGIN:VEVENT
DTSTAMP;VALUE=DATE-TIME:20260423T225508Z
DTSTART;VALUE=DATE-TIME:20130614T130000Z
DTEND;VALUE=DATE-TIME:20130614T130000Z
UID:http://archiv.lajosmizse.hu/hu/content/ballag%C3%A1s
URL;VALUE=URI:http://archiv.lajosmizse.hu/hu/content/ballag%C3%A1s
SUMMARY:Ballagás
END:VEVENT
BEGIN:VEVENT
DTSTAMP;VALUE=DATE-TIME:20260423T225508Z
DTSTART;VALUE=DATE-TIME:20130617T060000Z
DTEND;VALUE=DATE-TIME:20130621T140000Z
UID:http://archiv.lajosmizse.hu/hu/content/origami-t%C3%A1bor
URL;VALUE=URI:http://archiv.lajosmizse.hu/hu/content/origami-t%C3%A1bor
SUMMARY:Origami tábor
END:VEVENT
BEGIN:VEVENT
DTSTAMP;VALUE=DATE-TIME:20260423T225508Z
DTSTART;VALUE=DATE-TIME:20130617T060000Z
DTEND;VALUE=DATE-TIME:20130621T140000Z
UID:http://archiv.lajosmizse.hu/hu/content/picurka-term%C3%A9szetb%C3%BAv%C3%A1r-t%C3%A1bor
URL;VALUE=URI:http://archiv.lajosmizse.hu/hu/content/picurka-term%C3%A9szetb%C3%BAv%C3%A1r-t%C3%A1bor
SUMMARY:Picurka Természetbúvár Tábor
END:VEVENT
BEGIN:VEVENT
DTSTAMP;VALUE=DATE-TIME:20260423T225508Z
DTSTART;VALUE=DATE-TIME:20130617T060000Z
DTEND;VALUE=DATE-TIME:20130621T140000Z
UID:http://archiv.lajosmizse.hu/hu/content/anyanyelvi-t%C3%A1bor
URL;VALUE=URI:http://archiv.lajosmizse.hu/hu/content/anyanyelvi-t%C3%A1bor
SUMMARY:Anyanyelvi tábor
END:VEVENT
BEGIN:VEVENT
DTSTAMP;VALUE=DATE-TIME:20260423T225508Z
DTSTART;VALUE=DATE-TIME:20130619T080000Z
DTEND;VALUE=DATE-TIME:20130619T080000Z
UID:http://archiv.lajosmizse.hu/hu/content/tan%C3%A9vz%C3%A1r%C3%B3-%C3%BCnnep%C3%A9ly
URL;VALUE=URI:http://archiv.lajosmizse.hu/hu/content/tan%C3%A9vz%C3%A1r%C3%B3-%C3%BCnnep%C3%A9ly
SUMMARY:Tanévzáró ünnepély
END:VEVENT
BEGIN:VEVENT
DTSTAMP;VALUE=DATE-TIME:20260423T225508Z
DTSTART;VALUE=DATE-TIME:20130624T060000Z
DTEND;VALUE=DATE-TIME:20130628T140000Z
UID:http://archiv.lajosmizse.hu/hu/content/alkot%C3%B3t%C3%A1bor
URL;VALUE=URI:http://archiv.lajosmizse.hu/hu/content/alkot%C3%B3t%C3%A1bor
SUMMARY:Alkotótábor
END:VEVENT
BEGIN:VEVENT
DTSTAMP;VALUE=DATE-TIME:20260423T225508Z
DTSTART;VALUE=DATE-TIME:20130624T060000Z
DTEND;VALUE=DATE-TIME:20130628T140000Z
UID:http://archiv.lajosmizse.hu/hu/content/f%C3%BCrk%C3%A9sz-t%C3%A1bor
URL;VALUE=URI:http://archiv.lajosmizse.hu/hu/content/f%C3%BCrk%C3%A9sz-t%C3%A1bor
SUMMARY:Fürkész tábor
END:VEVENT
BEGIN:VEVENT
DTSTAMP;VALUE=DATE-TIME:20260423T225508Z
DTSTART;VALUE=DATE-TIME:20130624T060000Z
DTEND;VALUE=DATE-TIME:20130628T140000Z
UID:http://archiv.lajosmizse.hu/hu/content/%C3%BAsz%C3%B3t%C3%A1bor
URL;VALUE=URI:http://archiv.lajosmizse.hu/hu/content/%C3%BAsz%C3%B3t%C3%A1bor
SUMMARY:Úszótábor
END:VEVENT
BEGIN:VEVENT
DTSTAMP;VALUE=DATE-TIME:20260423T225508Z
DTSTART;VALUE=DATE-TIME:20130701T060000Z
DTEND;VALUE=DATE-TIME:20130705T140000Z
UID:http://archiv.lajosmizse.hu/hu/content/fazekas-t%C3%A1bor
URL;VALUE=URI:http://archiv.lajosmizse.hu/hu/content/fazekas-t%C3%A1bor
SUMMARY:Fazekas tábor
END:VEVENT
BEGIN:VEVENT
DTSTAMP;VALUE=DATE-TIME:20260423T225508Z
DTSTART;VALUE=DATE-TIME:20130701T060000Z
DTEND;VALUE=DATE-TIME:20130705T140000Z
UID:http://archiv.lajosmizse.hu/hu/content/t%C5%B1zzom%C3%A1nc-t%C3%A1bor
URL;VALUE=URI:http://archiv.lajosmizse.hu/hu/content/t%C5%B1zzom%C3%A1nc-t%C3%A1bor
SUMMARY:Tűzzománc tábor
END:VEVENT
BEGIN:VEVENT
DTSTAMP;VALUE=DATE-TIME:20260423T225508Z
DTSTART;VALUE=DATE-TIME:20130707T030000Z
DTEND;VALUE=DATE-TIME:20130707T030000Z
UID:http://archiv.lajosmizse.hu/hu/content/orsz%C3%A1gos-%C3%A1llat-kirakod%C3%B3v%C3%A1s%C3%A1r-5
URL;VALUE=URI:http://archiv.lajosmizse.hu/hu/content/orsz%C3%A1gos-%C3%A1llat-kirakod%C3%B3v%C3%A1s%C3%A1r-5
SUMMARY:Országos állat- és kirakodóvásár
END:VEVENT
END:VCALENDAR
