BEGIN:VCALENDAR
VERSION:2.0
METHOD:PUBLISH
X-WR-CALNAME:Üdvözöljük Önt Városunk Honlapján! |  május 20 2013- május 27 2013
PRODID:-//strange bird labs//Drupal iCal API//EN
BEGIN:VEVENT
DTSTAMP;VALUE=DATE-TIME:20260422T224142Z
DTSTART;VALUE=DATE-TIME:20130520T080000Z
DTEND;VALUE=DATE-TIME:20130526T160000Z
UID:http://archiv.lajosmizse.hu/hu/content/k%C3%BCl%C3%B6nf%C3%A9le-anyagok-hasznos%C3%ADt%C3%A1s%C3%A1val-k%C3%A9sz%C3%ADtett-j%C3%A1t%C3%A9kok-anyagok-ki%C3%A1ll%C3%ADt%C3%A1sa
URL;VALUE=URI:http://archiv.lajosmizse.hu/hu/content/k%C3%BCl%C3%B6nf%C3%A9le-anyagok-hasznos%C3%ADt%C3%A1s%C3%A1val-k%C3%A9sz%C3%ADtett-j%C3%A1t%C3%A9kok-anyagok-ki%C3%A1ll%C3%ADt%C3%A1sa
SUMMARY:Különféle anyagok hasznosításával készített játékok\, anyagok kiállítása
END:VEVENT
BEGIN:VEVENT
DTSTAMP;VALUE=DATE-TIME:20260422T224142Z
DTSTART;VALUE=DATE-TIME:20130524T060000Z
DTEND;VALUE=DATE-TIME:20130524T060000Z
UID:http://archiv.lajosmizse.hu/hu/content/gyermeknap-%C3%B3vod%C3%A1ban
URL;VALUE=URI:http://archiv.lajosmizse.hu/hu/content/gyermeknap-%C3%B3vod%C3%A1ban
SUMMARY:Gyermeknap az óvodában
END:VEVENT
BEGIN:VEVENT
DTSTAMP;VALUE=DATE-TIME:20260422T224142Z
DTSTART;VALUE=DATE-TIME:20130525T080000Z
DTEND;VALUE=DATE-TIME:20130525T080000Z
UID:http://archiv.lajosmizse.hu/hu/content/csal%C3%A1di-nap-iskol%C3%A1ban
URL;VALUE=URI:http://archiv.lajosmizse.hu/hu/content/csal%C3%A1di-nap-iskol%C3%A1ban
SUMMARY:Családi nap az iskolában
END:VEVENT
BEGIN:VEVENT
DTSTAMP;VALUE=DATE-TIME:20260422T224142Z
DTSTART;VALUE=DATE-TIME:20130526T080000Z
DTEND;VALUE=DATE-TIME:20130526T080000Z
UID:http://archiv.lajosmizse.hu/hu/content/grill%C3%A1zs-maj%C3%A1lis-gyermeknap
URL;VALUE=URI:http://archiv.lajosmizse.hu/hu/content/grill%C3%A1zs-maj%C3%A1lis-gyermeknap
SUMMARY:Grillázs majális és Gyermeknap
END:VEVENT
END:VCALENDAR
