BEGIN:VCALENDAR
VERSION:2.0
METHOD:PUBLISH
X-WR-CALNAME:Üdvözöljük Önt Városunk Honlapján! |  április 29 2013- május 06 2013
PRODID:-//strange bird labs//Drupal iCal API//EN
BEGIN:VEVENT
DTSTAMP;VALUE=DATE-TIME:20260424T174221Z
DTSTART;VALUE=DATE-TIME:20130418T220000Z
DTEND;VALUE=DATE-TIME:20130510T150000Z
UID:http://archiv.lajosmizse.hu/hu/content/moln%C3%A1r-m%C3%B3nika-selyemfest%C5%91-ki%C3%A1ll%C3%ADt%C3%A1sa
URL;VALUE=URI:http://archiv.lajosmizse.hu/hu/content/moln%C3%A1r-m%C3%B3nika-selyemfest%C5%91-ki%C3%A1ll%C3%ADt%C3%A1sa
SUMMARY:Molnár Mónika selyemfestő kiállítása
END:VEVENT
BEGIN:VEVENT
DTSTAMP;VALUE=DATE-TIME:20260424T174221Z
DTSTART;VALUE=DATE-TIME:20130504T220000Z
DTEND;VALUE=DATE-TIME:20130504T220000Z
UID:http://archiv.lajosmizse.hu/hu/content/orsz%C3%A1gos-%C3%A1llat-kirakod%C3%B3v%C3%A1s%C3%A1r-3
URL;VALUE=URI:http://archiv.lajosmizse.hu/hu/content/orsz%C3%A1gos-%C3%A1llat-kirakod%C3%B3v%C3%A1s%C3%A1r-3
SUMMARY:Országos állat- és kirakodóvásár
END:VEVENT
END:VCALENDAR
