BEGIN:VCALENDAR
VERSION:2.0
METHOD:PUBLISH
X-WR-CALNAME:Üdvözöljük Önt Városunk Honlapján! |  december 20 2012- január 19 2013
PRODID:-//strange bird labs//Drupal iCal API//EN
BEGIN:VEVENT
DTSTAMP;VALUE=DATE-TIME:20260425T161317Z
DTSTART;VALUE=DATE-TIME:20121203T220000Z
DTEND;VALUE=DATE-TIME:20121221T215900Z
UID:http://archiv.lajosmizse.hu/hu/content/xii-lajosmizsei-betlehemi-j%C3%A1szolki%C3%A1ll%C3%ADt%C3%A1s
URL;VALUE=URI:http://archiv.lajosmizse.hu/hu/content/xii-lajosmizsei-betlehemi-j%C3%A1szolki%C3%A1ll%C3%ADt%C3%A1s
SUMMARY:XII. Lajosmizsei Betlehemi Jászolkiállítás
DESCRIPTION:<p>Az Őszik&eacute\;k Nyugd&iacute\;jasklub &eacute\;s Lajosmizse V&aacute\;ros Művelőd&eacute\;si H&aacute\;za &eacute\;s K&ouml\;nyvt&aacute\;ra szervez&eacute\;s&eacute\;ben ker&uuml\;l megrendez&eacute\;sre a XII. Betlehemi J&aacute\;szolki&aacute\;ll&iacute\;t&aacute\;s 2012. december 4-21. k&ouml\;z&ouml\;tt.<br />
 	<strong>Helysz&iacute\;n\: Lajosmizse V&aacute\;ros Művelőd&eacute\;si H&aacute\;za &eacute\;s K&ouml\;nyvt&aacute\;ra</strong></p>
 
END:VEVENT
BEGIN:VEVENT
DTSTAMP;VALUE=DATE-TIME:20260425T161317Z
DTSTART;VALUE=DATE-TIME:20121214T220000Z
DTEND;VALUE=DATE-TIME:20121220T215900Z
UID:http://archiv.lajosmizse.hu/hu/content/betlehemi-%C3%A9l%C5%91k%C3%A9p-kar%C3%A1csonyi-v%C3%A1s%C3%A1r
URL;VALUE=URI:http://archiv.lajosmizse.hu/hu/content/betlehemi-%C3%A9l%C5%91k%C3%A9p-kar%C3%A1csonyi-v%C3%A1s%C3%A1r
SUMMARY:Betlehemi élőkép és karácsonyi vásár
DESCRIPTION:<p>2012. december 15-20. k&ouml\;z&ouml\;tt Betlehemi &eacute\;lők&eacute\;p &eacute\;s kar&aacute\;csonyi v&aacute\;s&aacute\;r lesz a k&ouml\;zponti parkban\, a Lajosmizsei Nőegylet szervez&eacute\;s&eacute\;ben.</p>
 
END:VEVENT
BEGIN:VEVENT
DTSTAMP;VALUE=DATE-TIME:20260425T161317Z
DTSTART;VALUE=DATE-TIME:20130106T040000Z
DTEND;VALUE=DATE-TIME:20130106T040000Z
UID:http://archiv.lajosmizse.hu/hu/content/orsz%C3%A1gos-%C3%A1llat-kirakod%C3%B3v%C3%A1s%C3%A1r
URL;VALUE=URI:http://archiv.lajosmizse.hu/hu/content/orsz%C3%A1gos-%C3%A1llat-kirakod%C3%B3v%C3%A1s%C3%A1r
SUMMARY:Országos állat- és kirakodóvásár 
END:VEVENT
END:VCALENDAR
