BEGIN:VCALENDAR
VERSION:2.0
METHOD:PUBLISH
X-WR-CALNAME:Üdvözöljük Önt Városunk Honlapján! |  november 27 2012- december 27 2012
PRODID:-//strange bird labs//Drupal iCal API//EN
BEGIN:VEVENT
DTSTAMP;VALUE=DATE-TIME:20260421T095021Z
DTSTART;VALUE=DATE-TIME:20121126T050000Z
DTEND;VALUE=DATE-TIME:20121127T145900Z
UID:http://archiv.lajosmizse.hu/hu/content/h%C3%A1zhoz-men%C5%91-szelekt%C3%ADv-hullad%C3%A9kgy%C5%B1jt%C3%A9s-5
URL;VALUE=URI:http://archiv.lajosmizse.hu/hu/content/h%C3%A1zhoz-men%C5%91-szelekt%C3%ADv-hullad%C3%A9kgy%C5%B1jt%C3%A9s-5
SUMMARY:Házhoz menő szelektív hulladékgyűjtés
END:VEVENT
BEGIN:VEVENT
DTSTAMP;VALUE=DATE-TIME:20260421T095021Z
DTSTART;VALUE=DATE-TIME:20121129T120000Z
DTEND;VALUE=DATE-TIME:20121129T120000Z
UID:http://archiv.lajosmizse.hu/hu/content/k%C3%A9pvisel%C5%91-test%C3%BCleti-%C3%BCl%C3%A9s-4
URL;VALUE=URI:http://archiv.lajosmizse.hu/hu/content/k%C3%A9pvisel%C5%91-test%C3%BCleti-%C3%BCl%C3%A9s-4
SUMMARY:Képviselő-testületi ülés
END:VEVENT
BEGIN:VEVENT
DTSTAMP;VALUE=DATE-TIME:20260421T095021Z
DTSTART;VALUE=DATE-TIME:20121129T150000Z
DTEND;VALUE=DATE-TIME:20121129T150000Z
UID:http://archiv.lajosmizse.hu/hu/content/k%C3%B6zmeghallgat%C3%A1s-1
URL;VALUE=URI:http://archiv.lajosmizse.hu/hu/content/k%C3%B6zmeghallgat%C3%A1s-1
SUMMARY:Közmeghallgatás
END:VEVENT
BEGIN:VEVENT
DTSTAMP;VALUE=DATE-TIME:20260421T095021Z
DTSTART;VALUE=DATE-TIME:20121203T220000Z
DTEND;VALUE=DATE-TIME:20121221T215900Z
UID:http://archiv.lajosmizse.hu/hu/content/xii-lajosmizsei-betlehemi-j%C3%A1szolki%C3%A1ll%C3%ADt%C3%A1s
URL;VALUE=URI:http://archiv.lajosmizse.hu/hu/content/xii-lajosmizsei-betlehemi-j%C3%A1szolki%C3%A1ll%C3%ADt%C3%A1s
SUMMARY:XII. Lajosmizsei Betlehemi Jászolkiállítás
DESCRIPTION:<p>Az Őszik&eacute\;k Nyugd&iacute\;jasklub &eacute\;s Lajosmizse V&aacute\;ros Művelőd&eacute\;si H&aacute\;za &eacute\;s K&ouml\;nyvt&aacute\;ra szervez&eacute\;s&eacute\;ben ker&uuml\;l megrendez&eacute\;sre a XII. Betlehemi J&aacute\;szolki&aacute\;ll&iacute\;t&aacute\;s 2012. december 4-21. k&ouml\;z&ouml\;tt.<br />
 	<strong>Helysz&iacute\;n\: Lajosmizse V&aacute\;ros Művelőd&eacute\;si H&aacute\;za &eacute\;s K&ouml\;nyvt&aacute\;ra</strong></p>
 
END:VEVENT
BEGIN:VEVENT
DTSTAMP;VALUE=DATE-TIME:20260421T095021Z
DTSTART;VALUE=DATE-TIME:20121206T150000Z
DTEND;VALUE=DATE-TIME:20121206T150000Z
UID:http://archiv.lajosmizse.hu/hu/content/kar%C3%A1csonyi-g%C3%A1la
URL;VALUE=URI:http://archiv.lajosmizse.hu/hu/content/kar%C3%A1csonyi-g%C3%A1la
SUMMARY:Karácsonyi Gála
DESCRIPTION:<p>2012. december 6-&aacute\;n 17 &oacute\;rakor Kar&aacute\;csonyi G&aacute\;la ker&uuml\;l megrendez&eacute\;sre.<br />
 	<strong>Helysz&iacute\;n\: Lajosmizse V&aacute\;ros Művelőd&eacute\;si H&aacute\;za &eacute\;s K&ouml\;nyvt&aacute\;ra</strong></p>
 
END:VEVENT
BEGIN:VEVENT
DTSTAMP;VALUE=DATE-TIME:20260421T095021Z
DTSTART;VALUE=DATE-TIME:20121207T140000Z
DTEND;VALUE=DATE-TIME:20121207T140000Z
UID:http://archiv.lajosmizse.hu/hu/content/k%C3%B6nyvbemutat%C3%B3-ki%C3%A1ll%C3%ADt%C3%A1s-megnyit%C3%B3
URL;VALUE=URI:http://archiv.lajosmizse.hu/hu/content/k%C3%B6nyvbemutat%C3%B3-ki%C3%A1ll%C3%ADt%C3%A1s-megnyit%C3%B3
SUMMARY:Könyvbemutató\, kiállítás megnyitó
END:VEVENT
BEGIN:VEVENT
DTSTAMP;VALUE=DATE-TIME:20260421T095021Z
DTSTART;VALUE=DATE-TIME:20121209T220000Z
DTEND;VALUE=DATE-TIME:20121218T215900Z
UID:http://archiv.lajosmizse.hu/hu/content/kar%C3%A1csonyfad%C3%ADsz-k%C3%A9sz%C3%ADt%C3%A9s
URL;VALUE=URI:http://archiv.lajosmizse.hu/hu/content/kar%C3%A1csonyfad%C3%ADsz-k%C3%A9sz%C3%ADt%C3%A9s
SUMMARY:Karácsonyfadísz készítés
END:VEVENT
BEGIN:VEVENT
DTSTAMP;VALUE=DATE-TIME:20260421T095021Z
DTSTART;VALUE=DATE-TIME:20121214T220000Z
DTEND;VALUE=DATE-TIME:20121220T215900Z
UID:http://archiv.lajosmizse.hu/hu/content/betlehemi-%C3%A9l%C5%91k%C3%A9p-kar%C3%A1csonyi-v%C3%A1s%C3%A1r
URL;VALUE=URI:http://archiv.lajosmizse.hu/hu/content/betlehemi-%C3%A9l%C5%91k%C3%A9p-kar%C3%A1csonyi-v%C3%A1s%C3%A1r
SUMMARY:Betlehemi élőkép és karácsonyi vásár
DESCRIPTION:<p>2012. december 15-20. k&ouml\;z&ouml\;tt Betlehemi &eacute\;lők&eacute\;p &eacute\;s kar&aacute\;csonyi v&aacute\;s&aacute\;r lesz a k&ouml\;zponti parkban\, a Lajosmizsei Nőegylet szervez&eacute\;s&eacute\;ben.</p>
 
END:VEVENT
BEGIN:VEVENT
DTSTAMP;VALUE=DATE-TIME:20260421T095021Z
DTSTART;VALUE=DATE-TIME:20121215T140000Z
DTEND;VALUE=DATE-TIME:20121215T140000Z
UID:http://archiv.lajosmizse.hu/hu/content/adventi-gyertyagy%C3%BAjt%C3%A1s
URL;VALUE=URI:http://archiv.lajosmizse.hu/hu/content/adventi-gyertyagy%C3%BAjt%C3%A1s
SUMMARY:Adventi gyertyagyújtás
END:VEVENT
BEGIN:VEVENT
DTSTAMP;VALUE=DATE-TIME:20260421T095021Z
DTSTART;VALUE=DATE-TIME:20121217T050000Z
DTEND;VALUE=DATE-TIME:20121218T145900Z
UID:http://archiv.lajosmizse.hu/hu/content/h%C3%A1zhoz-men%C5%91-szelekt%C3%ADv-hullad%C3%A9kgy%C5%B1jt%C3%A9s-6
URL;VALUE=URI:http://archiv.lajosmizse.hu/hu/content/h%C3%A1zhoz-men%C5%91-szelekt%C3%ADv-hullad%C3%A9kgy%C5%B1jt%C3%A9s-6
SUMMARY:Házhoz menő szelektív hulladékgyűjtés
END:VEVENT
END:VCALENDAR
