BEGIN:VCALENDAR
VERSION:2.0
METHOD:PUBLISH
X-WR-CALNAME:Üdvözöljük Önt Városunk Honlapján! |  augusztus 18 2012- szeptember 17 2012
PRODID:-//strange bird labs//Drupal iCal API//EN
BEGIN:VEVENT
DTSTAMP;VALUE=DATE-TIME:20260424T031855Z
DTSTART;VALUE=DATE-TIME:20120813T060000Z
DTEND;VALUE=DATE-TIME:20120818T140000Z
UID:http://archiv.lajosmizse.hu/hu/content/n%C3%A9pt%C3%A1nc-t%C3%A1bor-0
URL;VALUE=URI:http://archiv.lajosmizse.hu/hu/content/n%C3%A9pt%C3%A1nc-t%C3%A1bor-0
SUMMARY:Néptánc tábor
END:VEVENT
BEGIN:VEVENT
DTSTAMP;VALUE=DATE-TIME:20260424T031855Z
DTSTART;VALUE=DATE-TIME:20120817T220000Z
DTEND;VALUE=DATE-TIME:20120820T215900Z
UID:http://archiv.lajosmizse.hu/hu/content/xix-lajosmizsei-napok
URL;VALUE=URI:http://archiv.lajosmizse.hu/hu/content/xix-lajosmizsei-napok
SUMMARY:XIX. Lajosmizsei Napok
DESCRIPTION:<p>Lajosmizse V&aacute\;ros Művelőd&eacute\;si H&aacute\;za &eacute\;s K&ouml\;nyvt&aacute\;ra szervez&eacute\;s&eacute\;ben ker&uuml\;l megrendez&eacute\;sre a XIX. Ljaosmizsei Napok rendezv&eacute\;nysorozat\, 2012. augusztus 18-20. k&ouml\;z&ouml\;tt.<br />
 	Programok\: motoros tal&aacute\;lkoz&oacute\;\, tűzolt&aacute\;si bemutat&oacute\;. gyermek lovas &uuml\;gyess&eacute\;gi bemutat&oacute\;\, modellező ki&aacute\;ll&iacute\;t&aacute\;s\, koncert\, l&eacute\;zershow\, utcab&aacute\;l\, k&oacute\;rustal&aacute\;lkoz&oacute\;\, sportvet&eacute\;lkedők\, k&eacute\;zművesek utc&aacute\;ja.<br />
 	Bakacsi Ernő &uacute\;j k&ouml\;nyv&eacute\;nek bemutat&oacute\;ja 2012. augusztus 20-&aacute\;n 16 &oacute\;rakor lesz.<br />
 	&Uuml\;nnepi műsor\, Szent Istv&aacute\;n szobor koszor&uacute\;z&aacute\;sa 2012. augusztus 20-&aacute\;n 17 &oacute\;rakor lesz.<br />
 	<strong>Helysz&iacute\;nek\: Lajosmizse V&aacute\;ros Művelőd&eacute\;si H&aacute\;za &eacute\;s K&ouml\;ynvt&aacute\;ra\, Iskola-t&oacute\; partja</strong><br />
 	&nbsp\;</p>
 
END:VEVENT
BEGIN:VEVENT
DTSTAMP;VALUE=DATE-TIME:20260424T031855Z
DTSTART;VALUE=DATE-TIME:20120817T220000Z
DTEND;VALUE=DATE-TIME:20120817T220000Z
UID:http://archiv.lajosmizse.hu/hu/content/m%C3%BAzeumi-h%C3%A9tv%C3%A9g%C3%A9k-1
URL;VALUE=URI:http://archiv.lajosmizse.hu/hu/content/m%C3%BAzeumi-h%C3%A9tv%C3%A9g%C3%A9k-1
SUMMARY:Múzeumi hétvégék
DESCRIPTION:<p>A Lajosmizsei Helyt&ouml\;rt&eacute\;neti &eacute\;s Kultur&aacute\;lis Egyes&uuml\;let szervez&eacute\;s&eacute\;ben ker&uuml\;l megrendez&eacute\;sre a M&uacute\;zeumi h&eacute\;tv&eacute\;g&eacute\;k programsorozat\, 2012. augusztus 4-&eacute\;n\, 11-&eacute\;n\, &eacute\;s 18-&aacute\;n.<br />
 	<strong>Helysz&iacute\;n\: R&eacute\;gi V&aacute\;rosh&aacute\;za</strong></p>
 
END:VEVENT
BEGIN:VEVENT
DTSTAMP;VALUE=DATE-TIME:20260424T031855Z
DTSTART;VALUE=DATE-TIME:20120903T050000Z
DTEND;VALUE=DATE-TIME:20120904T145900Z
UID:http://archiv.lajosmizse.hu/hu/content/h%C3%A1zhoz-men%C5%91-szelekt%C3%ADv-hullad%C3%A9kgy%C5%B1jt%C3%A9s-2
URL;VALUE=URI:http://archiv.lajosmizse.hu/hu/content/h%C3%A1zhoz-men%C5%91-szelekt%C3%ADv-hullad%C3%A9kgy%C5%B1jt%C3%A9s-2
SUMMARY:Házhoz menő szelektív hulladékgyűjtés
END:VEVENT
END:VCALENDAR
