BEGIN:VCALENDAR
VERSION:2.0
METHOD:PUBLISH
X-WR-CALNAME:Üdvözöljük Önt Városunk Honlapján! |  május 13 2012- június 12 2012
PRODID:-//strange bird labs//Drupal iCal API//EN
BEGIN:VEVENT
DTSTAMP;VALUE=DATE-TIME:20260425T151547Z
DTSTART;VALUE=DATE-TIME:20120513T130000Z
DTEND;VALUE=DATE-TIME:20120516T170000Z
UID:http://archiv.lajosmizse.hu/hu/content/ki%C3%A1ll%C3%ADt%C3%A1s-r%C3%A9gi-v%C3%A1rosh%C3%A1z%C3%A1n-0
URL;VALUE=URI:http://archiv.lajosmizse.hu/hu/content/ki%C3%A1ll%C3%ADt%C3%A1s-r%C3%A9gi-v%C3%A1rosh%C3%A1z%C3%A1n-0
SUMMARY:Kiállítás a Régi Városházán
END:VEVENT
BEGIN:VEVENT
DTSTAMP;VALUE=DATE-TIME:20260425T151547Z
DTSTART;VALUE=DATE-TIME:20120513T220000Z
DTEND;VALUE=DATE-TIME:20120513T220000Z
UID:http://archiv.lajosmizse.hu/hu/content/k%C3%B6rnyezetv%C3%A9delem-jeles-napjai
URL;VALUE=URI:http://archiv.lajosmizse.hu/hu/content/k%C3%B6rnyezetv%C3%A9delem-jeles-napjai
SUMMARY:A Környezetvédelem jeles napjai
DESCRIPTION:<p>Lajosmizse V&aacute\;ros Művelőd&eacute\;si H&aacute\;za &eacute\;s K&ouml\;nyvt&aacute\;ra\, valamint a Lajosmizsei Helyt&ouml\;rt&eacute\;neti &eacute\;s Kultur&aacute\;lis Egyes&uuml\;let szervez&eacute\;s&eacute\;ben ker&uuml\;l megrendez&eacute\;sre 2012. m&aacute\;jus 14-&eacute\;n a Madarak &eacute\;s F&aacute\;k Napja\, a F&ouml\;ld Napja\, &eacute\;s a V&iacute\;z Vil&aacute\;gnapja.<br />
 	<strong>Helysz&iacute\;n\: R&eacute\;gi V&aacute\;rosh&aacute\;za</strong></p>
 
END:VEVENT
BEGIN:VEVENT
DTSTAMP;VALUE=DATE-TIME:20260425T151547Z
DTSTART;VALUE=DATE-TIME:20120514T060000Z
DTEND;VALUE=DATE-TIME:20120514T140000Z
UID:http://archiv.lajosmizse.hu/hu/content/%C3%A1sv%C3%A1ny-v%C3%A1s%C3%A1r-r%C3%A9gi-v%C3%A1rosh%C3%A1z%C3%A1n-0
URL;VALUE=URI:http://archiv.lajosmizse.hu/hu/content/%C3%A1sv%C3%A1ny-v%C3%A1s%C3%A1r-r%C3%A9gi-v%C3%A1rosh%C3%A1z%C3%A1n-0
SUMMARY:Ásvány vásár a Régi Városházán
END:VEVENT
BEGIN:VEVENT
DTSTAMP;VALUE=DATE-TIME:20260425T151547Z
DTSTART;VALUE=DATE-TIME:20120525T220000Z
DTEND;VALUE=DATE-TIME:20120525T220000Z
UID:http://archiv.lajosmizse.hu/hu/content/csal%C3%A1di-nap
URL;VALUE=URI:http://archiv.lajosmizse.hu/hu/content/csal%C3%A1di-nap
SUMMARY:Családi nap
DESCRIPTION:<p>A Feket Istv&aacute\;n &Aacute\;ltal&aacute\;nos Iskola &eacute\;s Koll&eacute\;gium szervez&eacute\;s&eacute\;ben ker&uuml\;l megrendez&eacute\;sre 2012. m&aacute\;jus 26-&aacute\;n a Csal&aacute\;di nap.<br />
 	<strong>Helysz&iacute\;n\: Fekete Istv&aacute\;n &Aacute\;ltal&aacute\;nos Iskola &eacute\;s Koll&eacute\;gium</strong></p>
 
END:VEVENT
BEGIN:VEVENT
DTSTAMP;VALUE=DATE-TIME:20260425T151547Z
DTSTART;VALUE=DATE-TIME:20120529T060000Z
DTEND;VALUE=DATE-TIME:20120529T060000Z
UID:http://archiv.lajosmizse.hu/hu/content/%C3%B6nkorm%C3%A1nyzat-int%C3%A9zm%C3%A9nyeinek-bizotts%C3%A1ga-%C3%BCl%C3%A9s-1
URL;VALUE=URI:http://archiv.lajosmizse.hu/hu/content/%C3%B6nkorm%C3%A1nyzat-int%C3%A9zm%C3%A9nyeinek-bizotts%C3%A1ga-%C3%BCl%C3%A9s-1
SUMMARY:Önkormányzat Intézményeinek Bizottsága ülés
END:VEVENT
BEGIN:VEVENT
DTSTAMP;VALUE=DATE-TIME:20260425T151547Z
DTSTART;VALUE=DATE-TIME:20120529T120000Z
DTEND;VALUE=DATE-TIME:20120529T120000Z
UID:http://archiv.lajosmizse.hu/hu/content/p%C3%A9nz%C3%BCgyi-telep%C3%BCl%C3%A9sfejleszt%C3%A9si-k%C3%B6zbeszerz%C3%A9si-bizotts%C3%A1g-%C3%BCl%C3%A9s
URL;VALUE=URI:http://archiv.lajosmizse.hu/hu/content/p%C3%A9nz%C3%BCgyi-telep%C3%BCl%C3%A9sfejleszt%C3%A9si-k%C3%B6zbeszerz%C3%A9si-bizotts%C3%A1g-%C3%BCl%C3%A9s
SUMMARY:Pénzügyi\, Településfejlesztési és Közbeszerzési Bizottság ülés
END:VEVENT
BEGIN:VEVENT
DTSTAMP;VALUE=DATE-TIME:20260425T151547Z
DTSTART;VALUE=DATE-TIME:20120530T060000Z
DTEND;VALUE=DATE-TIME:20120530T060000Z
UID:http://archiv.lajosmizse.hu/hu/content/%C3%BCgyrendi-sport-bizotts%C3%A1g-%C3%BCl%C3%A9s
URL;VALUE=URI:http://archiv.lajosmizse.hu/hu/content/%C3%BCgyrendi-sport-bizotts%C3%A1g-%C3%BCl%C3%A9s
SUMMARY:Ügyrendi és Sport Bizottság ülés
END:VEVENT
BEGIN:VEVENT
DTSTAMP;VALUE=DATE-TIME:20260425T151547Z
DTSTART;VALUE=DATE-TIME:20120530T070000Z
DTEND;VALUE=DATE-TIME:20120530T070000Z
UID:http://archiv.lajosmizse.hu/hu/content/mez%C5%91gazdas%C3%A1gi-gazdas%C3%A1gfejleszt%C3%A9si-bizotts%C3%A1g-%C3%BCl%C3%A9s
URL;VALUE=URI:http://archiv.lajosmizse.hu/hu/content/mez%C5%91gazdas%C3%A1gi-gazdas%C3%A1gfejleszt%C3%A9si-bizotts%C3%A1g-%C3%BCl%C3%A9s
SUMMARY:Mezőgazdasági és Gazdaságfejlesztési Bizottság ülés
END:VEVENT
BEGIN:VEVENT
DTSTAMP;VALUE=DATE-TIME:20260425T151547Z
DTSTART;VALUE=DATE-TIME:20120531T070000Z
DTEND;VALUE=DATE-TIME:20120531T070000Z
UID:http://archiv.lajosmizse.hu/hu/content/k%C3%A9pvisel%C5%91-test%C3%BCleti-%C3%BCl%C3%A9s-1
URL;VALUE=URI:http://archiv.lajosmizse.hu/hu/content/k%C3%A9pvisel%C5%91-test%C3%BCleti-%C3%BCl%C3%A9s-1
SUMMARY:Képviselő-testületi ülés
END:VEVENT
BEGIN:VEVENT
DTSTAMP;VALUE=DATE-TIME:20260425T151547Z
DTSTART;VALUE=DATE-TIME:20120601T220000Z
DTEND;VALUE=DATE-TIME:20120606T215900Z
UID:http://archiv.lajosmizse.hu/hu/content/t%C5%B1zzom%C3%A1nc-k%C3%A9sz%C3%ADt%C5%91-ny%C3%A1ri-t%C3%A1bor
URL;VALUE=URI:http://archiv.lajosmizse.hu/hu/content/t%C5%B1zzom%C3%A1nc-k%C3%A9sz%C3%ADt%C5%91-ny%C3%A1ri-t%C3%A1bor
SUMMARY:Tűzzománc készítő nyári tábor
DESCRIPTION:<p>Skult&eacute\;ti &Aacute\;rp&aacute\;d szervez&eacute\;s&eacute\;ben ker&uuml\;l megrendez&eacute\;sre a tűzzom&aacute\;nc k&eacute\;sz&iacute\;tő ny&aacute\;ri t&aacute\;bor.<br />
 	<strong>Helysz&iacute\;n\: Lajosmizse V&aacute\;ros Művelőd&eacute\;si H&aacute\;za &eacute\;s K&ouml\;nyvt&aacute\;ra</strong></p>
 
END:VEVENT
BEGIN:VEVENT
DTSTAMP;VALUE=DATE-TIME:20260425T151547Z
DTSTART;VALUE=DATE-TIME:20120601T220000Z
DTEND;VALUE=DATE-TIME:20120606T215900Z
UID:http://archiv.lajosmizse.hu/hu/content/hagyom%C3%A1ny%C5%91rz%C5%91-ny%C3%A1ri-napk%C3%B6zis-t%C3%A1bor-gyerekeknek
URL;VALUE=URI:http://archiv.lajosmizse.hu/hu/content/hagyom%C3%A1ny%C5%91rz%C5%91-ny%C3%A1ri-napk%C3%B6zis-t%C3%A1bor-gyerekeknek
SUMMARY:Hagyományőrző nyári napközis tábor gyerekeknek
DESCRIPTION:<p>A Lajosmizsei Helyt&ouml\;rt&eacute\;neti &eacute\;s Kultur&aacute\;lis Egyes&uuml\;let szervez&eacute\;s&eacute\;ben ker&uuml\;l megrendez&eacute\;sre a hagyom&aacute\;nyőrző ny&aacute\;ri napk&ouml\;zis t&aacute\;bor gyermekeknek.<br />
 	<strong>Helysz&iacute\;n\: R&eacute\;gi V&aacute\;rosh&aacute\;za</strong></p>
 
END:VEVENT
BEGIN:VEVENT
DTSTAMP;VALUE=DATE-TIME:20260425T151547Z
DTSTART;VALUE=DATE-TIME:20120601T220000Z
DTEND;VALUE=DATE-TIME:20120601T220000Z
UID:http://archiv.lajosmizse.hu/hu/content/szam%C3%B3ca-fesztiv%C3%A1l
URL;VALUE=URI:http://archiv.lajosmizse.hu/hu/content/szam%C3%B3ca-fesztiv%C3%A1l
SUMMARY:Szamóca fesztivál
DESCRIPTION:<p>Gombk&ouml\;tő Gizella szervez&eacute\;s&eacute\;ben 2012. j&uacute\;nius 2-&aacute\;n ker&uuml\;l megrendez&eacute\;sre a Szam&oacute\;ca fesztiv&aacute\;l.<br />
 	<strong>Helysz&iacute\;n\: &Ouml\;reg Tanyacs&aacute\;rda</strong></p>
 
END:VEVENT
BEGIN:VEVENT
DTSTAMP;VALUE=DATE-TIME:20260425T151547Z
DTSTART;VALUE=DATE-TIME:20120608T220000Z
DTEND;VALUE=DATE-TIME:20120613T215900Z
UID:http://archiv.lajosmizse.hu/hu/content/n%C3%A9pt%C3%A1nc-t%C3%A1bor
URL;VALUE=URI:http://archiv.lajosmizse.hu/hu/content/n%C3%A9pt%C3%A1nc-t%C3%A1bor
SUMMARY:Néptánc tábor
DESCRIPTION:<p>A Mizsei Vadr&oacute\;zs&aacute\;k n&eacute\;pt&aacute\;nccsoport szervez&eacute\;s&eacute\;ben ker&uuml\;l megrendez&eacute\;sre a n&eacute\;pt&aacute\;nc t&aacute\;bor 2012. j&uacute\;nius 9-13-ig.<br />
 	<strong>Helysz&iacute\;n\: Lajosmizse V&aacute\;ros Művelőd&eacute\;si H&aacute\;za &eacute\;s K&ouml\;nyvt&aacute\;ra</strong></p>
 
END:VEVENT
BEGIN:VEVENT
DTSTAMP;VALUE=DATE-TIME:20260425T151547Z
DTSTART;VALUE=DATE-TIME:20120611T060000Z
DTEND;VALUE=DATE-TIME:20120612T145900Z
UID:http://archiv.lajosmizse.hu/hu/content/h%C3%A1zhoz-men%C5%91-szelekt%C3%ADv-hullad%C3%A9kgy%C5%B1jt%C3%A9s
URL;VALUE=URI:http://archiv.lajosmizse.hu/hu/content/h%C3%A1zhoz-men%C5%91-szelekt%C3%ADv-hullad%C3%A9kgy%C5%B1jt%C3%A9s
SUMMARY:Házhoz menő szelektív hulladékgyűjtés
END:VEVENT
END:VCALENDAR
