BEGIN:VCALENDAR
VERSION:2.0
METHOD:PUBLISH
X-WR-CALNAME:Üdvözöljük Önt Városunk Honlapján! |  május 07 2012- május 14 2012
PRODID:-//strange bird labs//Drupal iCal API//EN
BEGIN:VEVENT
DTSTAMP;VALUE=DATE-TIME:20260422T101242Z
DTSTART;VALUE=DATE-TIME:20120511T220000Z
DTEND;VALUE=DATE-TIME:20120511T220000Z
UID:http://archiv.lajosmizse.hu/hu/content/t%C3%A1nch%C3%A1z
URL;VALUE=URI:http://archiv.lajosmizse.hu/hu/content/t%C3%A1nch%C3%A1z
SUMMARY:Táncház
DESCRIPTION:<p>A Lajosmizsei J&aacute\;szok Ifj&uacute\;s&aacute\;gi Egyes&uuml\;let szervez&eacute\;s&eacute\;ben 2012. m&aacute\;jus 12-&eacute\;n T&aacute\;nch&aacute\;z ker&uuml\;l megrendez&eacute\;sre.<br />
 Helysz&iacute\;n\: Lajosmizse V&aacute\;ros Művelőd&eacute\;si H&aacute\;za &eacute\;s K&ouml\;nyvt&aacute\;ra</p>
 
END:VEVENT
BEGIN:VEVENT
DTSTAMP;VALUE=DATE-TIME:20260422T101242Z
DTSTART;VALUE=DATE-TIME:20120513T130000Z
DTEND;VALUE=DATE-TIME:20120516T170000Z
UID:http://archiv.lajosmizse.hu/hu/content/ki%C3%A1ll%C3%ADt%C3%A1s-r%C3%A9gi-v%C3%A1rosh%C3%A1z%C3%A1n-0
URL;VALUE=URI:http://archiv.lajosmizse.hu/hu/content/ki%C3%A1ll%C3%ADt%C3%A1s-r%C3%A9gi-v%C3%A1rosh%C3%A1z%C3%A1n-0
SUMMARY:Kiállítás a Régi Városházán
END:VEVENT
BEGIN:VEVENT
DTSTAMP;VALUE=DATE-TIME:20260422T101242Z
DTSTART;VALUE=DATE-TIME:20120513T220000Z
DTEND;VALUE=DATE-TIME:20120513T220000Z
UID:http://archiv.lajosmizse.hu/hu/content/k%C3%B6rnyezetv%C3%A9delem-jeles-napjai
URL;VALUE=URI:http://archiv.lajosmizse.hu/hu/content/k%C3%B6rnyezetv%C3%A9delem-jeles-napjai
SUMMARY:A Környezetvédelem jeles napjai
DESCRIPTION:<p>Lajosmizse V&aacute\;ros Művelőd&eacute\;si H&aacute\;za &eacute\;s K&ouml\;nyvt&aacute\;ra\, valamint a Lajosmizsei Helyt&ouml\;rt&eacute\;neti &eacute\;s Kultur&aacute\;lis Egyes&uuml\;let szervez&eacute\;s&eacute\;ben ker&uuml\;l megrendez&eacute\;sre 2012. m&aacute\;jus 14-&eacute\;n a Madarak &eacute\;s F&aacute\;k Napja\, a F&ouml\;ld Napja\, &eacute\;s a V&iacute\;z Vil&aacute\;gnapja.<br />
 	<strong>Helysz&iacute\;n\: R&eacute\;gi V&aacute\;rosh&aacute\;za</strong></p>
 
END:VEVENT
END:VCALENDAR
