BEGIN:VCALENDAR
VERSION:2.0
METHOD:PUBLISH
X-WR-CALNAME:Üdvözöljük Önt Városunk Honlapján! |  március 27 2012- április 26 2012
PRODID:-//strange bird labs//Drupal iCal API//EN
BEGIN:VEVENT
DTSTAMP;VALUE=DATE-TIME:20260423T021910Z
DTSTART;VALUE=DATE-TIME:20120327T060000Z
DTEND;VALUE=DATE-TIME:20120327T060000Z
UID:http://archiv.lajosmizse.hu/hu/content/%C3%BCgyrendi-sport-bizotts%C3%A1g-%C3%BCl%C3%A9se
URL;VALUE=URI:http://archiv.lajosmizse.hu/hu/content/%C3%BCgyrendi-sport-bizotts%C3%A1g-%C3%BCl%C3%A9se
SUMMARY:Ügyrendi és Sport Bizottság ülése
END:VEVENT
BEGIN:VEVENT
DTSTAMP;VALUE=DATE-TIME:20260423T021910Z
DTSTART;VALUE=DATE-TIME:20120327T110000Z
DTEND;VALUE=DATE-TIME:20120327T110000Z
UID:http://archiv.lajosmizse.hu/hu/content/%C3%B6nkorm%C3%A1nyzat-int%C3%A9zm%C3%A9nyeinek-bizotts%C3%A1ga-%C3%BCl%C3%A9s
URL;VALUE=URI:http://archiv.lajosmizse.hu/hu/content/%C3%B6nkorm%C3%A1nyzat-int%C3%A9zm%C3%A9nyeinek-bizotts%C3%A1ga-%C3%BCl%C3%A9s
SUMMARY:Önkormányzat Intézményeinek Bizottsága ülés
END:VEVENT
BEGIN:VEVENT
DTSTAMP;VALUE=DATE-TIME:20260423T021910Z
DTSTART;VALUE=DATE-TIME:20120328T110000Z
DTEND;VALUE=DATE-TIME:20120328T110000Z
UID:http://archiv.lajosmizse.hu/hu/content/p%C3%A9nz%C3%BCgyi-ter%C3%BCletfejleszt%C3%A9si-k%C3%B6zbeszerz%C3%A9si-bizotts%C3%A1g-%C3%BCl%C3%A9se
URL;VALUE=URI:http://archiv.lajosmizse.hu/hu/content/p%C3%A9nz%C3%BCgyi-ter%C3%BCletfejleszt%C3%A9si-k%C3%B6zbeszerz%C3%A9si-bizotts%C3%A1g-%C3%BCl%C3%A9se
SUMMARY:Pénzügyi\, Területfejlesztési és Közbeszerzési Bizottság ülése
END:VEVENT
BEGIN:VEVENT
DTSTAMP;VALUE=DATE-TIME:20260423T021910Z
DTSTART;VALUE=DATE-TIME:20120329T070000Z
DTEND;VALUE=DATE-TIME:20120329T070000Z
UID:http://archiv.lajosmizse.hu/hu/content/k%C3%A9pvisel%C5%91-test%C3%BCleti-%C3%BCl%C3%A9s
URL;VALUE=URI:http://archiv.lajosmizse.hu/hu/content/k%C3%A9pvisel%C5%91-test%C3%BCleti-%C3%BCl%C3%A9s
SUMMARY:Képviselő-testületi ülés
END:VEVENT
BEGIN:VEVENT
DTSTAMP;VALUE=DATE-TIME:20260423T021910Z
DTSTART;VALUE=DATE-TIME:20120330T070000Z
DTEND;VALUE=DATE-TIME:20120330T070000Z
UID:http://archiv.lajosmizse.hu/hu/content/gyermekv%C3%A9delmi-konferencia
URL;VALUE=URI:http://archiv.lajosmizse.hu/hu/content/gyermekv%C3%A9delmi-konferencia
SUMMARY:Gyermekvédelmi konferencia
DESCRIPTION:<p>Lajosmizse V&aacute\;ros &Ouml\;nkorm&aacute\;nyzata Eg&eacute\;szs&eacute\;g&uuml\;gyi\, Gyermekj&oacute\;l&eacute\;ti &eacute\;s Szoci&aacute\;lis Int&eacute\;zm&eacute\;nye szervez&eacute\;s&eacute\;ben 2012. m&aacute\;rcius 30-&aacute\;n\, 9 &oacute\;rai kezdettel gyermekv&eacute\;delmi konferencia ker&uuml\;l megrendez&eacute\;sre.<br />
 	Helysz&iacute\;n\: Lajosmizse V&aacute\;ros Művelőd&eacute\;si H&aacute\;za &eacute\;s K&ouml\;nyvt&aacute\;ra<br />
 	Lajosmizse\, Szabads&aacute\;g t&eacute\;r 12.<br />
 	&nbsp\;</p>
 
END:VEVENT
BEGIN:VEVENT
DTSTAMP;VALUE=DATE-TIME:20260423T021910Z
DTSTART;VALUE=DATE-TIME:20120330T170000Z
DTEND;VALUE=DATE-TIME:20120330T170000Z
UID:http://archiv.lajosmizse.hu/hu/content/muzsika-hangja-musical-el%C5%91ad%C3%A1s
URL;VALUE=URI:http://archiv.lajosmizse.hu/hu/content/muzsika-hangja-musical-el%C5%91ad%C3%A1s
SUMMARY:Muzsika hangja - musical előadás
DESCRIPTION:<p>A Muzsika hangja c&iacute\;mmel musical előad&aacute\;s tekintehető meg a Művelőd&eacute\;si H&aacute\;zban.<br />
 	Az els&ouml\;prő sikerű darab szeretett karaktereit a magyar kultur&aacute\;lis &eacute\;let szereplői\, elismert műv&eacute\;szek eleven&iacute\;tik meg. Az előad&aacute\;sban k&ouml\;zreműk&ouml\;dő gyermek sz&iacute\;n&eacute\;szek\, a 2011-ben megm&eacute\;rettetett\, Orsz&aacute\;gos Musical Sz&iacute\;nj&aacute\;tsz&oacute\; Verseny nyertesei\, Arany Oklev&eacute\;llel minős&iacute\;tett ifj&uacute\; tehets&eacute\;gek.<br />
 	Jegy&aacute\;r\: 2500 Ft</p>
 
END:VEVENT
BEGIN:VEVENT
DTSTAMP;VALUE=DATE-TIME:20260423T021910Z
DTSTART;VALUE=DATE-TIME:20120331T183000Z
DTEND;VALUE=DATE-TIME:20120331T193000Z
UID:http://archiv.lajosmizse.hu/hu/content/f%C3%B6ld-%C3%B3r%C3%A1ja-akci%C3%B3-0
URL;VALUE=URI:http://archiv.lajosmizse.hu/hu/content/f%C3%B6ld-%C3%B3r%C3%A1ja-akci%C3%B3-0
SUMMARY:A Föld Órája Akció
DESCRIPTION:<p><strong>2012-ben Lajosmizse is csatlakozik a F&ouml\;ld &Oacute\;r&aacute\;ja elnevez&eacute\;sű akci&oacute\;hoz\, ez&eacute\;rt k&eacute\;r&uuml\;nk minden lakost\,<br />
 	hogy 2012. m&aacute\;rcius 31-&eacute\;n 20\:30 &eacute\;s 21\:30 k&ouml\;z&ouml\;tt takar&eacute\;koskodjon az<br />
 	villamos energi&aacute\;val.</strong></p>
 
END:VEVENT
BEGIN:VEVENT
DTSTAMP;VALUE=DATE-TIME:20260423T021910Z
DTSTART;VALUE=DATE-TIME:20120405T110000Z
DTEND;VALUE=DATE-TIME:20120405T110000Z
UID:http://archiv.lajosmizse.hu/hu/content/rendk%C3%ADv%C3%BCli-k%C3%A9pvisel%C5%91-test%C3%BCleti-%C3%BCl%C3%A9s
URL;VALUE=URI:http://archiv.lajosmizse.hu/hu/content/rendk%C3%ADv%C3%BCli-k%C3%A9pvisel%C5%91-test%C3%BCleti-%C3%BCl%C3%A9s
SUMMARY:Rendkívüli Képviselő-testületi ülés
END:VEVENT
BEGIN:VEVENT
DTSTAMP;VALUE=DATE-TIME:20260423T021910Z
DTSTART;VALUE=DATE-TIME:20120412T123000Z
DTEND;VALUE=DATE-TIME:20120412T123000Z
UID:http://archiv.lajosmizse.hu/hu/content/v%C3%A1rosi-szaval%C3%B3verseny
URL;VALUE=URI:http://archiv.lajosmizse.hu/hu/content/v%C3%A1rosi-szaval%C3%B3verseny
SUMMARY:Városi szavalóverseny
DESCRIPTION:<p>Lajosmizse V&aacute\;ros &Ouml\;nkorm&aacute\;nyzata\, Lajosmizse V&aacute\;ros Művelőd&eacute\;si H&aacute\;za &eacute\;s K&ouml\;nyvt&aacute\;ra\, valamint a Fekete Istv&aacute\;n &Aacute\;ltal&aacute\;nos Iskola 2012-ben is megrendezi K&ouml\;lt&eacute\;szet Napja alkalm&aacute\;b&oacute\;l v&aacute\;rosi megm&eacute\;rettet&eacute\;s&eacute\;t.<br />
 	3 vagy 4 korcsoportban indulhatnak a versenyzők\, akik egy szabadon v&aacute\;lasztott XIX. sz&aacute\;zadi magyar k&ouml\;ltő vers&eacute\;vel indulhatnak a jeles napon.<br />
 	Tov&aacute\;bbi inform&aacute\;ci&oacute\;k a plak&aacute\;ton olvashat&oacute\;k.</p>
 
END:VEVENT
BEGIN:VEVENT
DTSTAMP;VALUE=DATE-TIME:20260423T021910Z
DTSTART;VALUE=DATE-TIME:20120413T170000Z
DTEND;VALUE=DATE-TIME:20120413T170000Z
UID:http://archiv.lajosmizse.hu/hu/content/stand-up-comedy-m%C5%B1vel%C5%91d%C3%A9si-h%C3%A1zban
URL;VALUE=URI:http://archiv.lajosmizse.hu/hu/content/stand-up-comedy-m%C5%B1vel%C5%91d%C3%A9si-h%C3%A1zban
SUMMARY:Stand-up Comedy a Művelődési Házban
END:VEVENT
BEGIN:VEVENT
DTSTAMP;VALUE=DATE-TIME:20260423T021910Z
DTSTART;VALUE=DATE-TIME:20120416T050000Z
DTEND;VALUE=DATE-TIME:20120420T130000Z
UID:http://archiv.lajosmizse.hu/hu/content/%C3%B3vodai-be%C3%ADratkoz%C3%A1s
URL;VALUE=URI:http://archiv.lajosmizse.hu/hu/content/%C3%B3vodai-be%C3%ADratkoz%C3%A1s
SUMMARY:Óvodai beíratkozás
END:VEVENT
BEGIN:VEVENT
DTSTAMP;VALUE=DATE-TIME:20260423T021910Z
DTSTART;VALUE=DATE-TIME:20120416T110000Z
DTEND;VALUE=DATE-TIME:20120419T150000Z
UID:http://archiv.lajosmizse.hu/hu/content/iskolai-be%C3%ADratkoz%C3%A1s
URL;VALUE=URI:http://archiv.lajosmizse.hu/hu/content/iskolai-be%C3%ADratkoz%C3%A1s
SUMMARY:Iskolai beíratkozás
END:VEVENT
BEGIN:VEVENT
DTSTAMP;VALUE=DATE-TIME:20260423T021910Z
DTSTART;VALUE=DATE-TIME:20120423T060000Z
DTEND;VALUE=DATE-TIME:20120423T060000Z
UID:http://archiv.lajosmizse.hu/hu/content/okm%C3%A1nyirod%C3%A1ban-sz%C3%BCnetel-g%C3%A9pj%C3%A1rm%C5%B1-%C3%BCgyint%C3%A9z%C3%A9s
URL;VALUE=URI:http://archiv.lajosmizse.hu/hu/content/okm%C3%A1nyirod%C3%A1ban-sz%C3%BCnetel-g%C3%A9pj%C3%A1rm%C5%B1-%C3%BCgyint%C3%A9z%C3%A9s
SUMMARY:Az Okmányirodában szünetel a gépjármű ügyintézés
DESCRIPTION:<p>Az Okm&aacute\;nyirod&aacute\;ban sz&uuml\;netel a g&eacute\;pj&aacute\;rmű &uuml\;gyint&eacute\;z&eacute\;s</p>
 
END:VEVENT
BEGIN:VEVENT
DTSTAMP;VALUE=DATE-TIME:20260423T021910Z
DTSTART;VALUE=DATE-TIME:20120423T110000Z
DTEND;VALUE=DATE-TIME:20120423T110000Z
UID:http://archiv.lajosmizse.hu/hu/content/%C3%B6nkorm%C3%A1nyzat-int%C3%A9zm%C3%A9nyeinek-bizotts%C3%A1ga-%C3%BCl%C3%A9s-0
URL;VALUE=URI:http://archiv.lajosmizse.hu/hu/content/%C3%B6nkorm%C3%A1nyzat-int%C3%A9zm%C3%A9nyeinek-bizotts%C3%A1ga-%C3%BCl%C3%A9s-0
SUMMARY:Önkormányzat Intézményeinek Bizottsága ülés
END:VEVENT
BEGIN:VEVENT
DTSTAMP;VALUE=DATE-TIME:20260423T021910Z
DTSTART;VALUE=DATE-TIME:20120425T060000Z
DTEND;VALUE=DATE-TIME:20120425T060000Z
UID:http://archiv.lajosmizse.hu/hu/content/%C3%BCgyrendi-sport-bizotts%C3%A1g-%C3%BCl%C3%A9se-0
URL;VALUE=URI:http://archiv.lajosmizse.hu/hu/content/%C3%BCgyrendi-sport-bizotts%C3%A1g-%C3%BCl%C3%A9se-0
SUMMARY:Ügyrendi és Sport Bizottság ülése
END:VEVENT
BEGIN:VEVENT
DTSTAMP;VALUE=DATE-TIME:20260423T021910Z
DTSTART;VALUE=DATE-TIME:20120425T070000Z
DTEND;VALUE=DATE-TIME:20120425T070000Z
UID:http://archiv.lajosmizse.hu/hu/content/mez%C5%91gazdas%C3%A1gi-gazdas%C3%A1gfejleszt%C3%A9si-bizotts%C3%A1g-%C3%BCl%C3%A9se
URL;VALUE=URI:http://archiv.lajosmizse.hu/hu/content/mez%C5%91gazdas%C3%A1gi-gazdas%C3%A1gfejleszt%C3%A9si-bizotts%C3%A1g-%C3%BCl%C3%A9se
SUMMARY:Mezőgazdasági és Gazdaságfejlesztési Bizottság ülése
END:VEVENT
BEGIN:VEVENT
DTSTAMP;VALUE=DATE-TIME:20260423T021910Z
DTSTART;VALUE=DATE-TIME:20120425T110000Z
DTEND;VALUE=DATE-TIME:20120425T110000Z
UID:http://archiv.lajosmizse.hu/hu/content/p%C3%A9nz%C3%BCgyi-ter%C3%BCletfejleszt%C3%A9si-k%C3%B6zbeszerz%C3%A9si-bizotts%C3%A1g-%C3%BCl%C3%A9se-0
URL;VALUE=URI:http://archiv.lajosmizse.hu/hu/content/p%C3%A9nz%C3%BCgyi-ter%C3%BCletfejleszt%C3%A9si-k%C3%B6zbeszerz%C3%A9si-bizotts%C3%A1g-%C3%BCl%C3%A9se-0
SUMMARY:Pénzügyi\, Területfejlesztési és Közbeszerzési Bizottság ülése
END:VEVENT
END:VCALENDAR
