BEGIN:VCALENDAR
VERSION:2.0
METHOD:PUBLISH
X-WR-CALNAME:Üdvözöljük Önt Városunk Honlapján! |  October 05 2012- November 04 2012
PRODID:-//strange bird labs//Drupal iCal API//EN
BEGIN:VEVENT
DTSTAMP;VALUE=DATE-TIME:20260423T113047Z
DTSTART;VALUE=DATE-TIME:20120928T060000Z
DTEND;VALUE=DATE-TIME:20121012T215900Z
UID:http://archiv.lajosmizse.hu/en/content/eg%C3%A9szs%C3%A9g%C3%BCgyi-h%C3%A9t
URL;VALUE=URI:http://archiv.lajosmizse.hu/en/content/eg%C3%A9szs%C3%A9g%C3%BCgyi-h%C3%A9t
SUMMARY:Egészségügyi Hét
END:VEVENT
BEGIN:VEVENT
DTSTAMP;VALUE=DATE-TIME:20260423T113047Z
DTSTART;VALUE=DATE-TIME:20121006T220000Z
DTEND;VALUE=DATE-TIME:20121006T220000Z
UID:http://archiv.lajosmizse.hu/en/content/k%C3%B6nyves-vas%C3%A1rnap
URL;VALUE=URI:http://archiv.lajosmizse.hu/en/content/k%C3%B6nyves-vas%C3%A1rnap
SUMMARY:Könyves vasárnap
DESCRIPTION:<p>Lajosmizse V&aacute\;ros Művelőd&eacute\;si H&aacute\;za &eacute\;s K&ouml\;nyvt&aacute\;ra szervez&eacute\;s&eacute\;ben ker&uuml\;l megrendez&eacute\;sre a K&ouml\;nyves vas&aacute\;rnap 2012. okt&oacute\;ber 7-&eacute\;n.<strong> Helysz&iacute\;n\: Lajosmizse V&aacute\;ros Művelőd&eacute\;si H&aacute\;za &eacute\;s K&ouml\;nyvt&aacute\;ra</strong></p>
 
END:VEVENT
BEGIN:VEVENT
DTSTAMP;VALUE=DATE-TIME:20260423T113047Z
DTSTART;VALUE=DATE-TIME:20121012T170000Z
DTEND;VALUE=DATE-TIME:20121012T170000Z
UID:http://archiv.lajosmizse.hu/en/content/stand-up-comedy-m%C5%B1vel%C5%91d%C3%A9si-h%C3%A1zban-0
URL;VALUE=URI:http://archiv.lajosmizse.hu/en/content/stand-up-comedy-m%C5%B1vel%C5%91d%C3%A9si-h%C3%A1zban-0
SUMMARY:Stand-up Comedy a Művelődési Házban
DESCRIPTION:<p>Lajosmizse V&aacute\;ros Művelőd&eacute\;si H&aacute\;za &eacute\;s K&ouml\;nyvt&aacute\;ra szervez&eacute\;s&eacute\;ben ker&uuml\;l megrendez&eacute\;sre 2012. okt&oacute\;ber 12-&eacute\;n a Dumasz&iacute\;nh&aacute\;z\, Kőhalmi Zolt&aacute\;nnal &eacute\;s Aranyosi P&eacute\;terrel.<br />
 	<strong>Helysz&iacute\;n\: Lajosmizse V&aacute\;ros Művelőd&eacute\;si H&aacute\;za &eacute\;s K&ouml\;nyvt&aacute\;ra</strong></p>
 
END:VEVENT
BEGIN:VEVENT
DTSTAMP;VALUE=DATE-TIME:20260423T113047Z
DTSTART;VALUE=DATE-TIME:20121023T150000Z
DTEND;VALUE=DATE-TIME:20121023T150000Z
UID:http://archiv.lajosmizse.hu/en/content/%C3%BCnnepi-m%C5%B1sor-koszor%C3%BAz%C3%A1s
URL;VALUE=URI:http://archiv.lajosmizse.hu/en/content/%C3%BCnnepi-m%C5%B1sor-koszor%C3%BAz%C3%A1s
SUMMARY:Ünnepi műsor és koszorúzás
DESCRIPTION:<p>2012. okt&oacute\;ber 23-&aacute\;n 17 &oacute\;rakor ker&uuml\;l megrendez&eacute\;sre az &uuml\;nnepi műsor\, &eacute\;s koszor&uacute\;z&aacute\;s.<br />
 	<strong>Helysz&iacute\;n\: Lajosmizse V&aacute\;ros Művelőd&eacute\;si H&aacute\;za &eacute\;s K&ouml\;nyvt&aacute\;ra</strong></p>
 
END:VEVENT
BEGIN:VEVENT
DTSTAMP;VALUE=DATE-TIME:20260423T113047Z
DTSTART;VALUE=DATE-TIME:20121029T050000Z
DTEND;VALUE=DATE-TIME:20121030T145900Z
UID:http://archiv.lajosmizse.hu/en/content/h%C3%A1zhoz-men%C5%91-szelekt%C3%ADv-hullad%C3%A9kgy%C5%B1jt%C3%A9s-4
URL;VALUE=URI:http://archiv.lajosmizse.hu/en/content/h%C3%A1zhoz-men%C5%91-szelekt%C3%ADv-hullad%C3%A9kgy%C5%B1jt%C3%A9s-4
SUMMARY:Házhoz menő szelektív hulladékgyűjtés
END:VEVENT
END:VCALENDAR
