BEGIN:VCALENDAR
VERSION:2.0
METHOD:PUBLISH
X-WR-CALNAME:Üdvözöljük Önt Városunk Honlapján! |  July 09 2012- July 16 2012
PRODID:-//strange bird labs//Drupal iCal API//EN
BEGIN:VEVENT
DTSTAMP;VALUE=DATE-TIME:20260426T010335Z
DTSTART;VALUE=DATE-TIME:20120709T050000Z
DTEND;VALUE=DATE-TIME:20120710T145900Z
UID:http://archiv.lajosmizse.hu/en/content/h%C3%A1zhoz-men%C5%91-szelekt%C3%ADv-hullad%C3%A9kgy%C5%B1jt%C3%A9s-0
URL;VALUE=URI:http://archiv.lajosmizse.hu/en/content/h%C3%A1zhoz-men%C5%91-szelekt%C3%ADv-hullad%C3%A9kgy%C5%B1jt%C3%A9s-0
SUMMARY:Házhoz menő szelektív hulladékgyűjtés
END:VEVENT
BEGIN:VEVENT
DTSTAMP;VALUE=DATE-TIME:20260426T010335Z
DTSTART;VALUE=DATE-TIME:20120713T060000Z
DTEND;VALUE=DATE-TIME:20120713T060000Z
UID:http://archiv.lajosmizse.hu/en/content/rendk%C3%ADv%C3%BCli-k%C3%A9pvisel%C5%91-test%C3%BCleti-%C3%BCl%C3%A9s-0
URL;VALUE=URI:http://archiv.lajosmizse.hu/en/content/rendk%C3%ADv%C3%BCli-k%C3%A9pvisel%C5%91-test%C3%BCleti-%C3%BCl%C3%A9s-0
SUMMARY:Rendkívüli Képviselő-testületi ülés
END:VEVENT
END:VCALENDAR
