BEGIN:VCALENDAR
VERSION:2.0
METHOD:PUBLISH
X-WR-CALNAME:Üdvözöljük Önt Városunk Honlapján! |  June 13 2012- July 13 2012
PRODID:-//strange bird labs//Drupal iCal API//EN
BEGIN:VEVENT
DTSTAMP;VALUE=DATE-TIME:20260425T105456Z
DTSTART;VALUE=DATE-TIME:20120608T220000Z
DTEND;VALUE=DATE-TIME:20120613T215900Z
UID:http://archiv.lajosmizse.hu/en/content/n%C3%A9pt%C3%A1nc-t%C3%A1bor
URL;VALUE=URI:http://archiv.lajosmizse.hu/en/content/n%C3%A9pt%C3%A1nc-t%C3%A1bor
SUMMARY:Néptánc tábor
DESCRIPTION:<p>A Mizsei Vadr&oacute\;zs&aacute\;k n&eacute\;pt&aacute\;nccsoport szervez&eacute\;s&eacute\;ben ker&uuml\;l megrendez&eacute\;sre a n&eacute\;pt&aacute\;nc t&aacute\;bor 2012. j&uacute\;nius 9-13-ig.<br />
 	<strong>Helysz&iacute\;n\: Lajosmizse V&aacute\;ros Művelőd&eacute\;si H&aacute\;za &eacute\;s K&ouml\;nyvt&aacute\;ra</strong></p>
 
END:VEVENT
BEGIN:VEVENT
DTSTAMP;VALUE=DATE-TIME:20260425T105456Z
DTSTART;VALUE=DATE-TIME:20120703T060000Z
DTEND;VALUE=DATE-TIME:20120703T060000Z
UID:http://archiv.lajosmizse.hu/en/content/%C3%BCgyrendi-sport-bizotts%C3%A1g-%C3%BCl%C3%A9s-0
URL;VALUE=URI:http://archiv.lajosmizse.hu/en/content/%C3%BCgyrendi-sport-bizotts%C3%A1g-%C3%BCl%C3%A9s-0
SUMMARY:Ügyrendi és Sport Bizottság ülés
END:VEVENT
BEGIN:VEVENT
DTSTAMP;VALUE=DATE-TIME:20260425T105456Z
DTSTART;VALUE=DATE-TIME:20120703T070000Z
DTEND;VALUE=DATE-TIME:20120703T070000Z
UID:http://archiv.lajosmizse.hu/en/content/%C3%B6nkorm%C3%A1nyzat-int%C3%A9zm%C3%A9nyeinek-bizotts%C3%A1ga-%C3%BCl%C3%A9se
URL;VALUE=URI:http://archiv.lajosmizse.hu/en/content/%C3%B6nkorm%C3%A1nyzat-int%C3%A9zm%C3%A9nyeinek-bizotts%C3%A1ga-%C3%BCl%C3%A9se
SUMMARY:Önkormányzat Intézményeinek Bizottsága ülése
END:VEVENT
BEGIN:VEVENT
DTSTAMP;VALUE=DATE-TIME:20260425T105456Z
DTSTART;VALUE=DATE-TIME:20120703T110000Z
DTEND;VALUE=DATE-TIME:20120703T110000Z
UID:http://archiv.lajosmizse.hu/en/content/p%C3%A9nz%C3%BCgyi-ter%C3%BCletfejleszt%C3%A9si-k%C3%B6zbeszerz%C3%A9si-bizotts%C3%A1g-%C3%BCl%C3%A9s
URL;VALUE=URI:http://archiv.lajosmizse.hu/en/content/p%C3%A9nz%C3%BCgyi-ter%C3%BCletfejleszt%C3%A9si-k%C3%B6zbeszerz%C3%A9si-bizotts%C3%A1g-%C3%BCl%C3%A9s
SUMMARY:Pénzügyi\, Területfejlesztési és Közbeszerzési Bizottság ülés
END:VEVENT
BEGIN:VEVENT
DTSTAMP;VALUE=DATE-TIME:20260425T105456Z
DTSTART;VALUE=DATE-TIME:20120705T120000Z
DTEND;VALUE=DATE-TIME:20120705T120000Z
UID:http://archiv.lajosmizse.hu/en/content/k%C3%A9pvisel%C5%91-test%C3%BCleti-%C3%BCl%C3%A9s-2
URL;VALUE=URI:http://archiv.lajosmizse.hu/en/content/k%C3%A9pvisel%C5%91-test%C3%BCleti-%C3%BCl%C3%A9s-2
SUMMARY:Képviselő-testületi ülés
END:VEVENT
BEGIN:VEVENT
DTSTAMP;VALUE=DATE-TIME:20260425T105456Z
DTSTART;VALUE=DATE-TIME:20120709T050000Z
DTEND;VALUE=DATE-TIME:20120710T145900Z
UID:http://archiv.lajosmizse.hu/en/content/h%C3%A1zhoz-men%C5%91-szelekt%C3%ADv-hullad%C3%A9kgy%C5%B1jt%C3%A9s-0
URL;VALUE=URI:http://archiv.lajosmizse.hu/en/content/h%C3%A1zhoz-men%C5%91-szelekt%C3%ADv-hullad%C3%A9kgy%C5%B1jt%C3%A9s-0
SUMMARY:Házhoz menő szelektív hulladékgyűjtés
END:VEVENT
END:VCALENDAR
